BEGIN:VCALENDAR
VERSION:2.0
PRODID:-//Grande Prairie Family Education Society - ECPv6.15.20//NONSGML v1.0//EN
CALSCALE:GREGORIAN
METHOD:PUBLISH
X-WR-CALNAME:Grande Prairie Family Education Society
X-ORIGINAL-URL:https://www.familyeducationsociety.org
X-WR-CALDESC:Events for Grande Prairie Family Education Society
REFRESH-INTERVAL;VALUE=DURATION:PT1H
X-Robots-Tag:noindex
X-PUBLISHED-TTL:PT1H
BEGIN:VTIMEZONE
TZID:America/Edmonton
BEGIN:DAYLIGHT
TZOFFSETFROM:-0700
TZOFFSETTO:-0600
TZNAME:MDT
DTSTART:20240310T090000
END:DAYLIGHT
BEGIN:STANDARD
TZOFFSETFROM:-0600
TZOFFSETTO:-0700
TZNAME:MST
DTSTART:20241103T080000
END:STANDARD
BEGIN:DAYLIGHT
TZOFFSETFROM:-0700
TZOFFSETTO:-0600
TZNAME:MDT
DTSTART:20250309T090000
END:DAYLIGHT
BEGIN:STANDARD
TZOFFSETFROM:-0600
TZOFFSETTO:-0700
TZNAME:MST
DTSTART:20251102T080000
END:STANDARD
BEGIN:DAYLIGHT
TZOFFSETFROM:-0700
TZOFFSETTO:-0600
TZNAME:MDT
DTSTART:20260308T090000
END:DAYLIGHT
BEGIN:STANDARD
TZOFFSETFROM:-0600
TZOFFSETTO:-0700
TZNAME:MST
DTSTART:20261101T080000
END:STANDARD
END:VTIMEZONE
BEGIN:VEVENT
DTSTART;TZID=America/Edmonton:20251105T180000
DTEND;TZID=America/Edmonton:20251105T200000
DTSTAMP:20260422T130708
CREATED:20251112T210645Z
LAST-MODIFIED:20251112T220617Z
UID:10000382-1762365600-1762372800@www.familyeducationsociety.org
SUMMARY:The Big Six Workshop
DESCRIPTION:Wednesday\, November 5th 6:00 – 8:00 pm
URL:https://www.familyeducationsociety.org/event/the-big-six-workshop/
END:VEVENT
END:VCALENDAR