BEGIN:VCALENDAR
VERSION:2.0
PRODID:-//Grande Prairie Family Education Society - ECPv6.15.20//NONSGML v1.0//EN
CALSCALE:GREGORIAN
METHOD:PUBLISH
X-ORIGINAL-URL:https://www.familyeducationsociety.org
X-WR-CALDESC:Events for Grande Prairie Family Education Society
REFRESH-INTERVAL;VALUE=DURATION:PT1H
X-Robots-Tag:noindex
X-PUBLISHED-TTL:PT1H
BEGIN:VTIMEZONE
TZID:America/Edmonton
BEGIN:DAYLIGHT
TZOFFSETFROM:-0700
TZOFFSETTO:-0600
TZNAME:MDT
DTSTART:20240310T090000
END:DAYLIGHT
BEGIN:STANDARD
TZOFFSETFROM:-0600
TZOFFSETTO:-0700
TZNAME:MST
DTSTART:20241103T080000
END:STANDARD
BEGIN:DAYLIGHT
TZOFFSETFROM:-0700
TZOFFSETTO:-0600
TZNAME:MDT
DTSTART:20250309T090000
END:DAYLIGHT
BEGIN:STANDARD
TZOFFSETFROM:-0600
TZOFFSETTO:-0700
TZNAME:MST
DTSTART:20251102T080000
END:STANDARD
BEGIN:DAYLIGHT
TZOFFSETFROM:-0700
TZOFFSETTO:-0600
TZNAME:MDT
DTSTART:20260308T090000
END:DAYLIGHT
BEGIN:STANDARD
TZOFFSETFROM:-0600
TZOFFSETTO:-0700
TZNAME:MST
DTSTART:20261101T080000
END:STANDARD
END:VTIMEZONE
BEGIN:VEVENT
DTSTART;TZID=America/Edmonton:20251112T100000
DTEND;TZID=America/Edmonton:20251112T160000
DTSTAMP:20260422T130838
CREATED:20251112T212109Z
LAST-MODIFIED:20251112T212109Z
UID:10000403-1762941600-1762963200@www.familyeducationsociety.org
SUMMARY:Coats for Kids
DESCRIPTION:ends November 14th (while quantities last) Monday to Friday 10:00 -4:00 pm\, Saturdays 12:00 -3:00 pm
URL:https://www.familyeducationsociety.org/event/coats-for-kids/2025-11-12/
ATTACH;FMTTYPE=image/png:https://www.familyeducationsociety.org/wp-content/uploads/2025/11/Coats-for-Kids-2025-8.5x10-in_.png
END:VEVENT
BEGIN:VEVENT
DTSTART;TZID=America/Edmonton:20251112T103000
DTEND;TZID=America/Edmonton:20251112T123000
DTSTAMP:20260422T130838
CREATED:20251112T210446Z
LAST-MODIFIED:20251112T210514Z
UID:10000320-1762943400-1762950600@www.familyeducationsociety.org
SUMMARY:Skills for Learning
DESCRIPTION:Until November 19th WEDNESDAYS 10:30 – 12:30 pm
URL:https://www.familyeducationsociety.org/event/skills-for-learning/2025-11-12/
END:VEVENT
BEGIN:VEVENT
DTSTART;TZID=America/Edmonton:20251112T180000
DTEND;TZID=America/Edmonton:20251112T200000
DTSTAMP:20260422T130838
CREATED:20251112T211003Z
LAST-MODIFIED:20251112T211003Z
UID:10000384-1762970400-1762977600@www.familyeducationsociety.org
SUMMARY:Brain Builders Workshop
DESCRIPTION:Wednesday\, November 12th from 6:00 – 8:00 pm
URL:https://www.familyeducationsociety.org/event/brain-builders-workshop/
ATTACH;FMTTYPE=image/png:https://www.familyeducationsociety.org/wp-content/uploads/2025/11/Brain-Builders-November-2025.png
END:VEVENT
END:VCALENDAR