BEGIN:VCALENDAR
VERSION:2.0
PRODID:-//Grande Prairie Family Education Society - ECPv6.15.20//NONSGML v1.0//EN
CALSCALE:GREGORIAN
METHOD:PUBLISH
X-WR-CALNAME:Grande Prairie Family Education Society
X-ORIGINAL-URL:https://www.familyeducationsociety.org
X-WR-CALDESC:Events for Grande Prairie Family Education Society
REFRESH-INTERVAL;VALUE=DURATION:PT1H
X-Robots-Tag:noindex
X-PUBLISHED-TTL:PT1H
BEGIN:VTIMEZONE
TZID:America/Edmonton
BEGIN:DAYLIGHT
TZOFFSETFROM:-0700
TZOFFSETTO:-0600
TZNAME:MDT
DTSTART:20240310T090000
END:DAYLIGHT
BEGIN:STANDARD
TZOFFSETFROM:-0600
TZOFFSETTO:-0700
TZNAME:MST
DTSTART:20241103T080000
END:STANDARD
BEGIN:DAYLIGHT
TZOFFSETFROM:-0700
TZOFFSETTO:-0600
TZNAME:MDT
DTSTART:20250309T090000
END:DAYLIGHT
BEGIN:STANDARD
TZOFFSETFROM:-0600
TZOFFSETTO:-0700
TZNAME:MST
DTSTART:20251102T080000
END:STANDARD
BEGIN:DAYLIGHT
TZOFFSETFROM:-0700
TZOFFSETTO:-0600
TZNAME:MDT
DTSTART:20260308T090000
END:DAYLIGHT
BEGIN:STANDARD
TZOFFSETFROM:-0600
TZOFFSETTO:-0700
TZNAME:MST
DTSTART:20261101T080000
END:STANDARD
END:VTIMEZONE
BEGIN:VEVENT
DTSTART;TZID=America/Edmonton:20251113T100000
DTEND;TZID=America/Edmonton:20251113T160000
DTSTAMP:20260422T130754
CREATED:20251112T212109Z
LAST-MODIFIED:20251112T212109Z
UID:10000404-1763028000-1763049600@www.familyeducationsociety.org
SUMMARY:Coats for Kids
DESCRIPTION:ends November 14th (while quantities last) Monday to Friday 10:00 -4:00 pm\, Saturdays 12:00 -3:00 pm
URL:https://www.familyeducationsociety.org/event/coats-for-kids/2025-11-13/
ATTACH;FMTTYPE=image/png:https://www.familyeducationsociety.org/wp-content/uploads/2025/11/Coats-for-Kids-2025-8.5x10-in_.png
END:VEVENT
BEGIN:VEVENT
DTSTART;TZID=America/Edmonton:20251113T130000
DTEND;TZID=America/Edmonton:20251113T143000
DTSTAMP:20260422T130754
CREATED:20251112T210742Z
LAST-MODIFIED:20251112T210742Z
UID:10000378-1763038800-1763044200@www.familyeducationsociety.org
SUMMARY:FASD Caregiver Workshop
DESCRIPTION:THURSDAYS until December 4th 1:00 – 2:30 p
URL:https://www.familyeducationsociety.org/event/fasd-caregiver-workshop/2025-11-13/
END:VEVENT
END:VCALENDAR