BEGIN:VCALENDAR
VERSION:2.0
PRODID:-//Grande Prairie Family Education Society - ECPv6.15.20//NONSGML v1.0//EN
CALSCALE:GREGORIAN
METHOD:PUBLISH
X-WR-CALNAME:Grande Prairie Family Education Society
X-ORIGINAL-URL:https://www.familyeducationsociety.org
X-WR-CALDESC:Events for Grande Prairie Family Education Society
REFRESH-INTERVAL;VALUE=DURATION:PT1H
X-Robots-Tag:noindex
X-PUBLISHED-TTL:PT1H
BEGIN:VTIMEZONE
TZID:America/Edmonton
BEGIN:DAYLIGHT
TZOFFSETFROM:-0700
TZOFFSETTO:-0600
TZNAME:MDT
DTSTART:20240310T090000
END:DAYLIGHT
BEGIN:STANDARD
TZOFFSETFROM:-0600
TZOFFSETTO:-0700
TZNAME:MST
DTSTART:20241103T080000
END:STANDARD
BEGIN:DAYLIGHT
TZOFFSETFROM:-0700
TZOFFSETTO:-0600
TZNAME:MDT
DTSTART:20250309T090000
END:DAYLIGHT
BEGIN:STANDARD
TZOFFSETFROM:-0600
TZOFFSETTO:-0700
TZNAME:MST
DTSTART:20251102T080000
END:STANDARD
BEGIN:DAYLIGHT
TZOFFSETFROM:-0700
TZOFFSETTO:-0600
TZNAME:MDT
DTSTART:20260308T090000
END:DAYLIGHT
BEGIN:STANDARD
TZOFFSETFROM:-0600
TZOFFSETTO:-0700
TZNAME:MST
DTSTART:20261101T080000
END:STANDARD
END:VTIMEZONE
BEGIN:VEVENT
DTSTART;TZID=America/Edmonton:20251202T100000
DTEND;TZID=America/Edmonton:20251202T120000
DTSTAMP:20260422T112031
CREATED:20251112T204945Z
LAST-MODIFIED:20251112T210542Z
UID:10000005-1764669600-1764676800@www.familyeducationsociety.org
SUMMARY:The Power of Play
DESCRIPTION:BEZANSON TUESDAYS until December 9th 10:00 – 12:00 pm
URL:https://www.familyeducationsociety.org/event/the-power-of-play/2025-12-02/
END:VEVENT
BEGIN:VEVENT
DTSTART;TZID=America/Edmonton:20251202T133000
DTEND;TZID=America/Edmonton:20251202T153000
DTSTAMP:20260422T112031
CREATED:20251112T210339Z
LAST-MODIFIED:20251201T220704Z
UID:10000061-1764682200-1764689400@www.familyeducationsociety.org
SUMMARY:Tips and Tricks of Paperwork and Documentation
DESCRIPTION:TUESDAYS 1:30-3:30 pm
URL:https://www.familyeducationsociety.org/event/tips-and-tricks-of-paperwork-and-documentation/2025-12-02/
END:VEVENT
BEGIN:VEVENT
DTSTART;TZID=America/Edmonton:20251202T160000
DTEND;TZID=America/Edmonton:20251202T180000
DTSTAMP:20260422T112031
CREATED:20251112T211054Z
LAST-MODIFIED:20251112T211054Z
UID:10000387-1764691200-1764698400@www.familyeducationsociety.org
SUMMARY:Girls Matter!
DESCRIPTION:TUESDAYS November 18th – December 16th 4:00 pm – 6:00 pm
URL:https://www.familyeducationsociety.org/event/girls-matter/2025-12-02/
END:VEVENT
BEGIN:VEVENT
DTSTART;TZID=America/Edmonton:20251202T180000
DTEND;TZID=America/Edmonton:20251202T200000
DTSTAMP:20260422T112031
CREATED:20251202T162608Z
LAST-MODIFIED:20251202T163000Z
UID:10000434-1764698400-1764705600@www.familyeducationsociety.org
SUMMARY:Circle of Security - Sexsmith
DESCRIPTION:Learning Objectives of the Training: \n• Understand your child’s emotional world by learning to read the emotional needs \n• Support your child’s ability to successfully manage emotions \n• Enhance the development of your child’s self esteem
URL:https://www.familyeducationsociety.org/event/circle-of-security-sexsmith/2025-12-02/
LOCATION:The Oasis\, 9515 93 Avenue\, Sexsmith\, Alberta\, Canada
END:VEVENT
END:VCALENDAR