BEGIN:VCALENDAR
VERSION:2.0
PRODID:-//Grande Prairie Family Education Society - ECPv6.15.20//NONSGML v1.0//EN
CALSCALE:GREGORIAN
METHOD:PUBLISH
X-WR-CALNAME:Grande Prairie Family Education Society
X-ORIGINAL-URL:https://www.familyeducationsociety.org
X-WR-CALDESC:Events for Grande Prairie Family Education Society
REFRESH-INTERVAL;VALUE=DURATION:PT1H
X-Robots-Tag:noindex
X-PUBLISHED-TTL:PT1H
BEGIN:VTIMEZONE
TZID:America/Edmonton
BEGIN:DAYLIGHT
TZOFFSETFROM:-0700
TZOFFSETTO:-0600
TZNAME:MDT
DTSTART:20240310T090000
END:DAYLIGHT
BEGIN:STANDARD
TZOFFSETFROM:-0600
TZOFFSETTO:-0700
TZNAME:MST
DTSTART:20241103T080000
END:STANDARD
BEGIN:DAYLIGHT
TZOFFSETFROM:-0700
TZOFFSETTO:-0600
TZNAME:MDT
DTSTART:20250309T090000
END:DAYLIGHT
BEGIN:STANDARD
TZOFFSETFROM:-0600
TZOFFSETTO:-0700
TZNAME:MST
DTSTART:20251102T080000
END:STANDARD
BEGIN:DAYLIGHT
TZOFFSETFROM:-0700
TZOFFSETTO:-0600
TZNAME:MDT
DTSTART:20260308T090000
END:DAYLIGHT
BEGIN:STANDARD
TZOFFSETFROM:-0600
TZOFFSETTO:-0700
TZNAME:MST
DTSTART:20261101T080000
END:STANDARD
END:VTIMEZONE
BEGIN:VEVENT
DTSTART;TZID=America/Edmonton:20251216T083000
DTEND;TZID=America/Edmonton:20251216T130000
DTSTAMP:20260422T112029
CREATED:20251201T223016Z
LAST-MODIFIED:20251201T223016Z
UID:10000413-1765873800-1765890000@www.familyeducationsociety.org
SUMMARY:Office closed for training
DESCRIPTION:
URL:https://www.familyeducationsociety.org/event/office-closed-for-training/
END:VEVENT
BEGIN:VEVENT
DTSTART;TZID=America/Edmonton:20251216T133000
DTEND;TZID=America/Edmonton:20251216T153000
DTSTAMP:20260422T112029
CREATED:20251112T210339Z
LAST-MODIFIED:20251201T220704Z
UID:10000063-1765891800-1765899000@www.familyeducationsociety.org
SUMMARY:Tips and Tricks of Paperwork and Documentation
DESCRIPTION:TUESDAYS 1:30-3:30 pm
URL:https://www.familyeducationsociety.org/event/tips-and-tricks-of-paperwork-and-documentation/2025-12-16/
END:VEVENT
BEGIN:VEVENT
DTSTART;TZID=America/Edmonton:20251216T160000
DTEND;TZID=America/Edmonton:20251216T180000
DTSTAMP:20260422T112029
CREATED:20251112T211054Z
LAST-MODIFIED:20251112T211054Z
UID:10000389-1765900800-1765908000@www.familyeducationsociety.org
SUMMARY:Girls Matter!
DESCRIPTION:TUESDAYS November 18th – December 16th 4:00 pm – 6:00 pm
URL:https://www.familyeducationsociety.org/event/girls-matter/2025-12-16/
END:VEVENT
END:VCALENDAR