BEGIN:VCALENDAR
VERSION:2.0
PRODID:-//Grande Prairie Family Education Society - ECPv6.15.20//NONSGML v1.0//EN
CALSCALE:GREGORIAN
METHOD:PUBLISH
X-ORIGINAL-URL:https://www.familyeducationsociety.org
X-WR-CALDESC:Events for Grande Prairie Family Education Society
REFRESH-INTERVAL;VALUE=DURATION:PT1H
X-Robots-Tag:noindex
X-PUBLISHED-TTL:PT1H
BEGIN:VTIMEZONE
TZID:America/Edmonton
BEGIN:DAYLIGHT
TZOFFSETFROM:-0700
TZOFFSETTO:-0600
TZNAME:MDT
DTSTART:20250309T090000
END:DAYLIGHT
BEGIN:STANDARD
TZOFFSETFROM:-0600
TZOFFSETTO:-0700
TZNAME:MST
DTSTART:20251102T080000
END:STANDARD
BEGIN:DAYLIGHT
TZOFFSETFROM:-0700
TZOFFSETTO:-0600
TZNAME:MDT
DTSTART:20260308T090000
END:DAYLIGHT
BEGIN:STANDARD
TZOFFSETFROM:-0600
TZOFFSETTO:-0700
TZNAME:MST
DTSTART:20261101T080000
END:STANDARD
BEGIN:DAYLIGHT
TZOFFSETFROM:-0700
TZOFFSETTO:-0600
TZNAME:MDT
DTSTART:20270314T090000
END:DAYLIGHT
BEGIN:STANDARD
TZOFFSETFROM:-0600
TZOFFSETTO:-0700
TZNAME:MST
DTSTART:20271107T080000
END:STANDARD
END:VTIMEZONE
BEGIN:VEVENT
DTSTART;TZID=America/Edmonton:20260127T130000
DTEND;TZID=America/Edmonton:20260127T150000
DTSTAMP:20260422T081845
CREATED:20251230T170629Z
LAST-MODIFIED:20260102T200228Z
UID:10000740-1769518800-1769526000@www.familyeducationsociety.org
SUMMARY:Circle of Security - Closed Group
DESCRIPTION:
URL:https://www.familyeducationsociety.org/event/circle-of-security-closed-group/2026-01-27/
END:VEVENT
BEGIN:VEVENT
DTSTART;TZID=America/Edmonton:20260127T133000
DTEND;TZID=America/Edmonton:20260127T153000
DTSTAMP:20260422T081845
CREATED:20251230T165935Z
LAST-MODIFIED:20251230T165935Z
UID:10000736-1769520600-1769527800@www.familyeducationsociety.org
SUMMARY:Tips and Tricks of Paperwork and Documentation
DESCRIPTION:Learn new reading and digital literacy skills\, build vocabulary\, and get assistance with confusing paperwork such as AISH\, Disability Tax Credit\, Treaty Status Application and more!
URL:https://www.familyeducationsociety.org/event/tips-and-tricks-of-paperwork-and-documentation-2/2026-01-27/
ATTACH;FMTTYPE=image/png:https://www.familyeducationsociety.org/wp-content/uploads/2025/12/Paperwork-and-Documentation-Group.png
END:VEVENT
BEGIN:VEVENT
DTSTART;TZID=America/Edmonton:20260127T180000
DTEND;TZID=America/Edmonton:20260127T200000
DTSTAMP:20260422T081845
CREATED:20260102T163804Z
LAST-MODIFIED:20260102T163804Z
UID:10000818-1769536800-1769544000@www.familyeducationsociety.org
SUMMARY:Connect via Zoom
DESCRIPTION:Connect is an An Attachment-Based & Trauma-Informed Program for Parents and Caregivers. \nEach session\, parents & caregivers learn about parent-teen relationships and adolescent development. We work together with parents and caregivers to explore the many ways they can support their children’s healthy development. \nTuesdays\, January 27-March 24\, 2026 \n6:00-8:00pm \nThis program is offered via Zoom \nCall to register 780-830-0920
URL:https://www.familyeducationsociety.org/event/connect-via-zoom/2026-01-27/
ATTACH;FMTTYPE=image/png:https://www.familyeducationsociety.org/wp-content/uploads/2026/01/Connect-Parent-Jan-to-March-2026.png
LOCATION:
END:VEVENT
BEGIN:VEVENT
DTSTART;TZID=America/Edmonton:20260127T183000
DTEND;TZID=America/Edmonton:20260127T203000
DTSTAMP:20260422T081845
CREATED:20260119T164449Z
LAST-MODIFIED:20260119T164823Z
UID:10000833-1769538600-1769545800@www.familyeducationsociety.org
SUMMARY:The Big Six!
DESCRIPTION:Join us for this fun and engaging workshop! \nSix things every child needs for healthy brain development (podcast & discussion)
URL:https://www.familyeducationsociety.org/event/the-big-six-3/
ATTACH;FMTTYPE=image/png:https://www.familyeducationsociety.org/wp-content/uploads/2026/01/The-Big-Six-GPFES-January-27.png
END:VEVENT
END:VCALENDAR