BEGIN:VCALENDAR
VERSION:2.0
PRODID:-//Grande Prairie Family Education Society - ECPv6.15.20//NONSGML v1.0//EN
CALSCALE:GREGORIAN
METHOD:PUBLISH
X-WR-CALNAME:Grande Prairie Family Education Society
X-ORIGINAL-URL:https://www.familyeducationsociety.org
X-WR-CALDESC:Events for Grande Prairie Family Education Society
REFRESH-INTERVAL;VALUE=DURATION:PT1H
X-Robots-Tag:noindex
X-PUBLISHED-TTL:PT1H
BEGIN:VTIMEZONE
TZID:America/Edmonton
BEGIN:DAYLIGHT
TZOFFSETFROM:-0700
TZOFFSETTO:-0600
TZNAME:MDT
DTSTART:20250309T090000
END:DAYLIGHT
BEGIN:STANDARD
TZOFFSETFROM:-0600
TZOFFSETTO:-0700
TZNAME:MST
DTSTART:20251102T080000
END:STANDARD
BEGIN:DAYLIGHT
TZOFFSETFROM:-0700
TZOFFSETTO:-0600
TZNAME:MDT
DTSTART:20260308T090000
END:DAYLIGHT
BEGIN:STANDARD
TZOFFSETFROM:-0600
TZOFFSETTO:-0700
TZNAME:MST
DTSTART:20261101T080000
END:STANDARD
BEGIN:DAYLIGHT
TZOFFSETFROM:-0700
TZOFFSETTO:-0600
TZNAME:MDT
DTSTART:20270314T090000
END:DAYLIGHT
BEGIN:STANDARD
TZOFFSETFROM:-0600
TZOFFSETTO:-0700
TZNAME:MST
DTSTART:20271107T080000
END:STANDARD
END:VTIMEZONE
BEGIN:VEVENT
DTSTART;TZID=America/Edmonton:20260129T100000
DTEND;TZID=America/Edmonton:20260129T120000
DTSTAMP:20260422T081559
CREATED:20251229T225752Z
LAST-MODIFIED:20251229T225752Z
UID:10000727-1769680800-1769688000@www.familyeducationsociety.org
SUMMARY:The Power of Play_Clairmont
DESCRIPTION:The Power of Play in Clairmont at Wellington Resource Centre! \nEnjoy play\, songs\, stories and activities with your children! There will be an opportunity to complete an ASQ. \nThe 5 domains of an ASQ developmental screen: Gross Motor\, Fine Motor\, Social-Emotional\, Problem Solving\, and Communication
URL:https://www.familyeducationsociety.org/event/the-power-of-play_clairmont/2026-01-29/
LOCATION:Wellington Resource Centre\, Clairmont\, Alberta\, Canada
ATTACH;FMTTYPE=image/jpeg:https://www.familyeducationsociety.org/wp-content/uploads/2025/12/The-Power-of-Play_Clairmont-Jan-2026.jpg
END:VEVENT
BEGIN:VEVENT
DTSTART;TZID=America/Edmonton:20260129T173000
DTEND;TZID=America/Edmonton:20260129T203000
DTSTAMP:20260422T081559
CREATED:20251230T162935Z
LAST-MODIFIED:20251230T162935Z
UID:10000729-1769707800-1769718600@www.familyeducationsociety.org
SUMMARY:Decision Skills
DESCRIPTION:Decision Skills course is an innovative method of teaching parents simple skills to manage conflicts and negotiate decisions.\n\n\n\nJoin us for an engaging class focused on the four decision-making skills that allow families to gain the skills they need to work together in making decisions. Discover new ways to approach challenges and make informed choices together. \nNew Ways for Families Decision Skills course offers a new method that has been designed to be simple and repetitive\, so that almost all parents can learn these skills and apply them in their lives when dealing with each other\, with their children\, and with anyone. \nMany of these decisions need to be made with a former spouse or partner who may have temporary or long-term difficulty in making reasonable decisions. \nThis in-person event will be held at the PACE Centre (use west side doors). Light refreshments will be served. \nDon’t miss this opportunity. \n\n\n\n\n\n\nClick here to register \nJanuary 29\, 2026 5:30 – 8:30 pm \nPace Centre \n10031 103 Avenue \nGrande Prairie\, AB T8V 1B9
URL:https://www.familyeducationsociety.org/event/decision-skills-9/
LOCATION:PACE\, 10031 103 Avenue\, Grande Prairie\, Alberta\, Canada
END:VEVENT
END:VCALENDAR