BEGIN:VCALENDAR
VERSION:2.0
PRODID:-//Grande Prairie Family Education Society - ECPv6.15.20//NONSGML v1.0//EN
CALSCALE:GREGORIAN
METHOD:PUBLISH
X-ORIGINAL-URL:https://www.familyeducationsociety.org
X-WR-CALDESC:Events for Grande Prairie Family Education Society
REFRESH-INTERVAL;VALUE=DURATION:PT1H
X-Robots-Tag:noindex
X-PUBLISHED-TTL:PT1H
BEGIN:VTIMEZONE
TZID:America/Edmonton
BEGIN:DAYLIGHT
TZOFFSETFROM:-0700
TZOFFSETTO:-0600
TZNAME:MDT
DTSTART:20250309T090000
END:DAYLIGHT
BEGIN:STANDARD
TZOFFSETFROM:-0600
TZOFFSETTO:-0700
TZNAME:MST
DTSTART:20251102T080000
END:STANDARD
BEGIN:DAYLIGHT
TZOFFSETFROM:-0700
TZOFFSETTO:-0600
TZNAME:MDT
DTSTART:20260308T090000
END:DAYLIGHT
BEGIN:STANDARD
TZOFFSETFROM:-0600
TZOFFSETTO:-0700
TZNAME:MST
DTSTART:20261101T080000
END:STANDARD
BEGIN:DAYLIGHT
TZOFFSETFROM:-0700
TZOFFSETTO:-0600
TZNAME:MDT
DTSTART:20270314T090000
END:DAYLIGHT
BEGIN:STANDARD
TZOFFSETFROM:-0600
TZOFFSETTO:-0700
TZNAME:MST
DTSTART:20271107T080000
END:STANDARD
END:VTIMEZONE
BEGIN:VEVENT
DTSTART;TZID=America/Edmonton:20260401T100000
DTEND;TZID=America/Edmonton:20260401T120000
DTSTAMP:20260422T053102
CREATED:20260227T163505Z
LAST-MODIFIED:20260227T165524Z
UID:10001254-1775037600-1775044800@www.familyeducationsociety.org
SUMMARY:Power of Play in Hythe
DESCRIPTION:The power of play program is based on the 5 domains of an ASQ developmental screen. Each week will focus on a different area of development. \nEnjoy play\, songs\, stories and activities with your children! \nThere will be an opportunity to complete an ASQ\, if so desired. \nMarch 4 & 18 \nApril 1 & 15 \nMay 6 \nHythe Community Library \nCall 780-830-0920 or email facilitator@gpfes.com to register.
URL:https://www.familyeducationsociety.org/event/power-of-play-in-hythe/2026-04-01/
ATTACH;FMTTYPE=image/png:https://www.familyeducationsociety.org/wp-content/uploads/2026/02/The-Power-of-Play_Hythe-March-4-to-May-6-2026.png
END:VEVENT
END:VCALENDAR