BEGIN:VCALENDAR
VERSION:2.0
PRODID:-//Grande Prairie Family Education Society - ECPv6.15.20//NONSGML v1.0//EN
CALSCALE:GREGORIAN
METHOD:PUBLISH
X-ORIGINAL-URL:https://www.familyeducationsociety.org
X-WR-CALDESC:Events for Grande Prairie Family Education Society
REFRESH-INTERVAL;VALUE=DURATION:PT1H
X-Robots-Tag:noindex
X-PUBLISHED-TTL:PT1H
BEGIN:VTIMEZONE
TZID:America/Edmonton
BEGIN:DAYLIGHT
TZOFFSETFROM:-0700
TZOFFSETTO:-0600
TZNAME:MDT
DTSTART:20250309T090000
END:DAYLIGHT
BEGIN:STANDARD
TZOFFSETFROM:-0600
TZOFFSETTO:-0700
TZNAME:MST
DTSTART:20251102T080000
END:STANDARD
BEGIN:DAYLIGHT
TZOFFSETFROM:-0700
TZOFFSETTO:-0600
TZNAME:MDT
DTSTART:20260308T090000
END:DAYLIGHT
BEGIN:STANDARD
TZOFFSETFROM:-0600
TZOFFSETTO:-0700
TZNAME:MST
DTSTART:20261101T080000
END:STANDARD
BEGIN:DAYLIGHT
TZOFFSETFROM:-0700
TZOFFSETTO:-0600
TZNAME:MDT
DTSTART:20270314T090000
END:DAYLIGHT
BEGIN:STANDARD
TZOFFSETFROM:-0600
TZOFFSETTO:-0700
TZNAME:MST
DTSTART:20271107T080000
END:STANDARD
END:VTIMEZONE
BEGIN:VEVENT
DTSTART;TZID=America/Edmonton:20260402T100000
DTEND;TZID=America/Edmonton:20260402T120000
DTSTAMP:20260422T053030
CREATED:20260302T224946Z
LAST-MODIFIED:20260302T224946Z
UID:10001272-1775124000-1775131200@www.familyeducationsociety.org
SUMMARY:Power of Play in Spirit River
DESCRIPTION:The power of play program is based on the 5 domains of an ASQ developmental screen. Each week will focus on a different area of development. \nEnjoy play\, songs\, stories and activities with your children! \nThere will be an opportunity to complete an ASQ\, if so desired. \nThursdays March 5th  to April 9th \nCentennial Hall\, Ross Room \nCall 780-830-0920 or email facilitator@gpfes.com to register.
URL:https://www.familyeducationsociety.org/event/power-of-play-in-spirit-river/2026-04-02/
ATTACH;FMTTYPE=image/png:https://www.familyeducationsociety.org/wp-content/uploads/2026/03/The-Power-of-Play_Spirit-River-March-to-April-2026.png
END:VEVENT
BEGIN:VEVENT
DTSTART;TZID=America/Edmonton:20260402T180000
DTEND;TZID=America/Edmonton:20260402T200000
DTSTAMP:20260422T053030
CREATED:20260302T231547Z
LAST-MODIFIED:20260302T232103Z
UID:10001286-1775152800-1775160000@www.familyeducationsociety.org
SUMMARY:Cooperative CoParenting through Separation or Divorce
DESCRIPTION:Cooperative CoParenting through Separation or Divorce \nShielding your Child from Conflict\, a video and Discussion programs for Coparents \nLearn powerful ways to communicate cooperatively\, make coparenting decisions in the best interest of your children\, and avoid the destructive effects that separation or divorce can have on a family. \nThursdays March 5th to April 23rd\, 6:00 – 8:00 pm
URL:https://www.familyeducationsociety.org/event/cooperative-coparenting-through-separation-or-divorce-2/2026-04-02/
END:VEVENT
END:VCALENDAR