BEGIN:VCALENDAR
VERSION:2.0
PRODID:-//Grande Prairie Family Education Society - ECPv6.15.20//NONSGML v1.0//EN
CALSCALE:GREGORIAN
METHOD:PUBLISH
X-WR-CALNAME:Grande Prairie Family Education Society
X-ORIGINAL-URL:https://www.familyeducationsociety.org
X-WR-CALDESC:Events for Grande Prairie Family Education Society
REFRESH-INTERVAL;VALUE=DURATION:PT1H
X-Robots-Tag:noindex
X-PUBLISHED-TTL:PT1H
BEGIN:VTIMEZONE
TZID:America/Edmonton
BEGIN:DAYLIGHT
TZOFFSETFROM:-0700
TZOFFSETTO:-0600
TZNAME:MDT
DTSTART:20250309T090000
END:DAYLIGHT
BEGIN:STANDARD
TZOFFSETFROM:-0600
TZOFFSETTO:-0700
TZNAME:MST
DTSTART:20251102T080000
END:STANDARD
BEGIN:DAYLIGHT
TZOFFSETFROM:-0700
TZOFFSETTO:-0600
TZNAME:MDT
DTSTART:20260308T090000
END:DAYLIGHT
BEGIN:STANDARD
TZOFFSETFROM:-0600
TZOFFSETTO:-0700
TZNAME:MST
DTSTART:20261101T080000
END:STANDARD
BEGIN:DAYLIGHT
TZOFFSETFROM:-0700
TZOFFSETTO:-0600
TZNAME:MDT
DTSTART:20270314T090000
END:DAYLIGHT
BEGIN:STANDARD
TZOFFSETFROM:-0600
TZOFFSETTO:-0700
TZNAME:MST
DTSTART:20271107T080000
END:STANDARD
END:VTIMEZONE
BEGIN:VEVENT
DTSTART;TZID=America/Edmonton:20260415T093000
DTEND;TZID=America/Edmonton:20260415T123000
DTSTAMP:20260422T053000
CREATED:20260330T033324Z
LAST-MODIFIED:20260330T033324Z
UID:10001301-1776245400-1776256200@www.familyeducationsociety.org
SUMMARY:Decision Skills
DESCRIPTION:Decision Skills course is an innovative method of teaching parents simple skills to manage conflicts and negotiate decisions.\n\n\n\nJoin us for an engaging class focused on the four decision-making skills that allow families to gain the skills they need to work together in making decisions. Discover new ways to approach challenges and make informed choices together. \nNew Ways for Families Decision Skills course offers a new method that has been designed to be simple and repetitive\, so that almost all parents can learn these skills and apply them in their lives when dealing with each other\, with their children\, and with anyone. \nMany of these decisions need to be made with a former spouse or partner who may have temporary or long-term difficulty in making reasonable decisions. \nThis in-person event will be held at Grande Prairie Family Education Society. Light refreshments will be served. \nDon’t miss this opportunity. \n\n\n\n\n\n\nClick here to register \nApril 15\, 2026 9:30 – 12:30 pm \nGrande Prairie Family Education Society \nGrande Prairie\, AB T8V 2T8
URL:https://www.familyeducationsociety.org/event/decision-skills-17/
END:VEVENT
BEGIN:VEVENT
DTSTART;TZID=America/Edmonton:20260415T100000
DTEND;TZID=America/Edmonton:20260415T120000
DTSTAMP:20260422T053000
CREATED:20260227T163505Z
LAST-MODIFIED:20260227T165524Z
UID:10001255-1776247200-1776254400@www.familyeducationsociety.org
SUMMARY:Power of Play in Hythe
DESCRIPTION:The power of play program is based on the 5 domains of an ASQ developmental screen. Each week will focus on a different area of development. \nEnjoy play\, songs\, stories and activities with your children! \nThere will be an opportunity to complete an ASQ\, if so desired. \nMarch 4 & 18 \nApril 1 & 15 \nMay 6 \nHythe Community Library \nCall 780-830-0920 or email facilitator@gpfes.com to register.
URL:https://www.familyeducationsociety.org/event/power-of-play-in-hythe/2026-04-15/
ATTACH;FMTTYPE=image/png:https://www.familyeducationsociety.org/wp-content/uploads/2026/02/The-Power-of-Play_Hythe-March-4-to-May-6-2026.png
END:VEVENT
END:VCALENDAR