BEGIN:VCALENDAR
VERSION:2.0
PRODID:-//Grande Prairie Family Education Society - ECPv6.15.20//NONSGML v1.0//EN
CALSCALE:GREGORIAN
METHOD:PUBLISH
X-ORIGINAL-URL:https://www.familyeducationsociety.org
X-WR-CALDESC:Events for Grande Prairie Family Education Society
REFRESH-INTERVAL;VALUE=DURATION:PT1H
X-Robots-Tag:noindex
X-PUBLISHED-TTL:PT1H
BEGIN:VTIMEZONE
TZID:America/Edmonton
BEGIN:DAYLIGHT
TZOFFSETFROM:-0700
TZOFFSETTO:-0600
TZNAME:MDT
DTSTART:20250309T090000
END:DAYLIGHT
BEGIN:STANDARD
TZOFFSETFROM:-0600
TZOFFSETTO:-0700
TZNAME:MST
DTSTART:20251102T080000
END:STANDARD
BEGIN:DAYLIGHT
TZOFFSETFROM:-0700
TZOFFSETTO:-0600
TZNAME:MDT
DTSTART:20260308T090000
END:DAYLIGHT
BEGIN:STANDARD
TZOFFSETFROM:-0600
TZOFFSETTO:-0700
TZNAME:MST
DTSTART:20261101T080000
END:STANDARD
BEGIN:DAYLIGHT
TZOFFSETFROM:-0700
TZOFFSETTO:-0600
TZNAME:MDT
DTSTART:20270314T090000
END:DAYLIGHT
BEGIN:STANDARD
TZOFFSETFROM:-0600
TZOFFSETTO:-0700
TZNAME:MST
DTSTART:20271107T080000
END:STANDARD
END:VTIMEZONE
BEGIN:VEVENT
DTSTART;TZID=America/Edmonton:20260429T130000
DTEND;TZID=America/Edmonton:20260429T150000
DTSTAMP:20260422T053103
CREATED:20260330T151157Z
LAST-MODIFIED:20260330T151157Z
UID:10001363-1777467600-1777474800@www.familyeducationsociety.org
SUMMARY:Love and Logic - Birth to 6 yrs
DESCRIPTION:Five sessions designed to help parents up the odds that the teenage years will be fun…instead of frantic. \n\nHandle disruptions during meal times\nGet children to stay in their own bed\nStop your child’s whining and bickering\nEnd temper tantrums\nDiscipline your toddler in public without creating a scene in the morning\nGet children up and about\n\n…and many other helpful tools \nWednesdays – 1:00-3:00 pm \nApril 29\, May 6\, 13\, 20\, June 3\, 2026 \nGrande Prairie Family Education Society 9607-102 Street \nCall 780-830-0920 to register \nLimited Childcare spaces
URL:https://www.familyeducationsociety.org/event/love-and-logic-birth-to-6-yrs/2026-04-29/
ATTACH;FMTTYPE=image/png:https://www.familyeducationsociety.org/wp-content/uploads/2026/03/Love-and-Logic-Birth-to-6-yrs-April-to-June-2026.png
END:VEVENT
END:VCALENDAR