BEGIN:VCALENDAR
VERSION:2.0
PRODID:-//Grande Prairie Family Education Society - ECPv6.15.20//NONSGML v1.0//EN
CALSCALE:GREGORIAN
METHOD:PUBLISH
X-WR-CALNAME:Grande Prairie Family Education Society
X-ORIGINAL-URL:https://www.familyeducationsociety.org
X-WR-CALDESC:Events for Grande Prairie Family Education Society
REFRESH-INTERVAL;VALUE=DURATION:PT1H
X-Robots-Tag:noindex
X-PUBLISHED-TTL:PT1H
BEGIN:VTIMEZONE
TZID:America/Edmonton
BEGIN:DAYLIGHT
TZOFFSETFROM:-0700
TZOFFSETTO:-0600
TZNAME:MDT
DTSTART:20250309T090000
END:DAYLIGHT
BEGIN:STANDARD
TZOFFSETFROM:-0600
TZOFFSETTO:-0700
TZNAME:MST
DTSTART:20251102T080000
END:STANDARD
BEGIN:DAYLIGHT
TZOFFSETFROM:-0700
TZOFFSETTO:-0600
TZNAME:MDT
DTSTART:20260308T090000
END:DAYLIGHT
BEGIN:STANDARD
TZOFFSETFROM:-0600
TZOFFSETTO:-0700
TZNAME:MST
DTSTART:20261101T080000
END:STANDARD
BEGIN:DAYLIGHT
TZOFFSETFROM:-0700
TZOFFSETTO:-0600
TZNAME:MDT
DTSTART:20270314T090000
END:DAYLIGHT
BEGIN:STANDARD
TZOFFSETFROM:-0600
TZOFFSETTO:-0700
TZNAME:MST
DTSTART:20271107T080000
END:STANDARD
END:VTIMEZONE
BEGIN:VEVENT
DTSTART;TZID=America/Edmonton:20260604T173000
DTEND;TZID=America/Edmonton:20260604T193000
DTSTAMP:20260422T081600
CREATED:20260330T154816Z
LAST-MODIFIED:20260330T154816Z
UID:10001373-1780594200-1780601400@www.familyeducationsociety.org
SUMMARY:Girls Matter
DESCRIPTION:Connect with your inner strength\, and beauty. Build new friendships\, talk about stressors\, and social media. Have fun and find new ways to love yourself for who you are\, naturally. \nMay 7 to June 11: 5:30 pm to 7:30 pm (Girls Matter Programming) \nJune 18th 5:00 pm to 7:00 pm (Girls Matter Programming) then 7:00 pm to 8:00 pm (Parent & Daughter Celebration) \nLocation: 9614 100 Ave \nAges: 11-13 years of age welcome \nDinner Provided during programing for girls
URL:https://www.familyeducationsociety.org/event/girls-matter-2/2026-06-04/
LOCATION:9614 100 Avenue\, 9614 100 Avenue\, Grande Prairie\, Canada
ATTACH;FMTTYPE=image/png:https://www.familyeducationsociety.org/wp-content/uploads/2026/03/Girls-Matter-Program-April-30-to-June-18-2026-1.png
END:VEVENT
END:VCALENDAR