BEGIN:VCALENDAR
VERSION:2.0
PRODID:-//Grande Prairie Family Education Society - ECPv6.15.20//NONSGML v1.0//EN
CALSCALE:GREGORIAN
METHOD:PUBLISH
X-WR-CALNAME:Grande Prairie Family Education Society
X-ORIGINAL-URL:https://www.familyeducationsociety.org
X-WR-CALDESC:Events for Grande Prairie Family Education Society
REFRESH-INTERVAL;VALUE=DURATION:PT1H
X-Robots-Tag:noindex
X-PUBLISHED-TTL:PT1H
BEGIN:VTIMEZONE
TZID:America/Edmonton
BEGIN:DAYLIGHT
TZOFFSETFROM:-0700
TZOFFSETTO:-0600
TZNAME:MDT
DTSTART:20240310T090000
END:DAYLIGHT
BEGIN:STANDARD
TZOFFSETFROM:-0600
TZOFFSETTO:-0700
TZNAME:MST
DTSTART:20241103T080000
END:STANDARD
BEGIN:DAYLIGHT
TZOFFSETFROM:-0700
TZOFFSETTO:-0600
TZNAME:MDT
DTSTART:20250309T090000
END:DAYLIGHT
BEGIN:STANDARD
TZOFFSETFROM:-0600
TZOFFSETTO:-0700
TZNAME:MST
DTSTART:20251102T080000
END:STANDARD
BEGIN:DAYLIGHT
TZOFFSETFROM:-0700
TZOFFSETTO:-0600
TZNAME:MDT
DTSTART:20260308T090000
END:DAYLIGHT
BEGIN:STANDARD
TZOFFSETFROM:-0600
TZOFFSETTO:-0700
TZNAME:MST
DTSTART:20261101T080000
END:STANDARD
END:VTIMEZONE
BEGIN:VEVENT
DTSTART;TZID=America/Edmonton:20251110T100000
DTEND;TZID=America/Edmonton:20251110T160000
DTSTAMP:20260422T162226
CREATED:20251112T212109Z
LAST-MODIFIED:20251112T212109Z
UID:10000401-1762768800-1762790400@www.familyeducationsociety.org
SUMMARY:Coats for Kids
DESCRIPTION:ends November 14th (while quantities last) Monday to Friday 10:00 -4:00 pm\, Saturdays 12:00 -3:00 pm
URL:https://www.familyeducationsociety.org/event/coats-for-kids/2025-11-10/
ATTACH;FMTTYPE=image/png:https://www.familyeducationsociety.org/wp-content/uploads/2025/11/Coats-for-Kids-2025-8.5x10-in_.png
END:VEVENT
BEGIN:VEVENT
DTSTART;TZID=America/Edmonton:20251105T180000
DTEND;TZID=America/Edmonton:20251105T200000
DTSTAMP:20260422T162226
CREATED:20251112T210645Z
LAST-MODIFIED:20251112T220617Z
UID:10000382-1762365600-1762372800@www.familyeducationsociety.org
SUMMARY:The Big Six Workshop
DESCRIPTION:Wednesday\, November 5th 6:00 – 8:00 pm
URL:https://www.familyeducationsociety.org/event/the-big-six-workshop/
END:VEVENT
BEGIN:VEVENT
DTSTART;TZID=America/Edmonton:20251104T180000
DTEND;TZID=America/Edmonton:20251104T200000
DTSTAMP:20260422T162226
CREATED:20251202T162608Z
LAST-MODIFIED:20251202T163000Z
UID:10000430-1762279200-1762286400@www.familyeducationsociety.org
SUMMARY:Circle of Security - Sexsmith
DESCRIPTION:Learning Objectives of the Training: \n• Understand your child’s emotional world by learning to read the emotional needs \n• Support your child’s ability to successfully manage emotions \n• Enhance the development of your child’s self esteem
URL:https://www.familyeducationsociety.org/event/circle-of-security-sexsmith/2025-11-04/
LOCATION:The Oasis\, 9515 93 Avenue\, Sexsmith\, Alberta\, Canada
END:VEVENT
BEGIN:VEVENT
DTSTART;TZID=America/Edmonton:20251028T180000
DTEND;TZID=America/Edmonton:20251028T200000
DTSTAMP:20260422T162226
CREATED:20251202T162608Z
LAST-MODIFIED:20251202T163000Z
UID:10000429-1761674400-1761681600@www.familyeducationsociety.org
SUMMARY:Circle of Security - Sexsmith
DESCRIPTION:Learning Objectives of the Training: \n• Understand your child’s emotional world by learning to read the emotional needs \n• Support your child’s ability to successfully manage emotions \n• Enhance the development of your child’s self esteem
URL:https://www.familyeducationsociety.org/event/circle-of-security-sexsmith/2025-10-28/
LOCATION:The Oasis\, 9515 93 Avenue\, Sexsmith\, Alberta\, Canada
END:VEVENT
END:VCALENDAR