BEGIN:VCALENDAR
VERSION:2.0
PRODID:-//Grande Prairie Family Education Society - ECPv6.15.20//NONSGML v1.0//EN
CALSCALE:GREGORIAN
METHOD:PUBLISH
X-ORIGINAL-URL:https://www.familyeducationsociety.org
X-WR-CALDESC:Events for Grande Prairie Family Education Society
REFRESH-INTERVAL;VALUE=DURATION:PT1H
X-Robots-Tag:noindex
X-PUBLISHED-TTL:PT1H
BEGIN:VTIMEZONE
TZID:America/Edmonton
BEGIN:DAYLIGHT
TZOFFSETFROM:-0700
TZOFFSETTO:-0600
TZNAME:MDT
DTSTART:20240310T090000
END:DAYLIGHT
BEGIN:STANDARD
TZOFFSETFROM:-0600
TZOFFSETTO:-0700
TZNAME:MST
DTSTART:20241103T080000
END:STANDARD
BEGIN:DAYLIGHT
TZOFFSETFROM:-0700
TZOFFSETTO:-0600
TZNAME:MDT
DTSTART:20250309T090000
END:DAYLIGHT
BEGIN:STANDARD
TZOFFSETFROM:-0600
TZOFFSETTO:-0700
TZNAME:MST
DTSTART:20251102T080000
END:STANDARD
BEGIN:DAYLIGHT
TZOFFSETFROM:-0700
TZOFFSETTO:-0600
TZNAME:MDT
DTSTART:20260308T090000
END:DAYLIGHT
BEGIN:STANDARD
TZOFFSETFROM:-0600
TZOFFSETTO:-0700
TZNAME:MST
DTSTART:20261101T080000
END:STANDARD
BEGIN:DAYLIGHT
TZOFFSETFROM:-0700
TZOFFSETTO:-0600
TZNAME:MDT
DTSTART:20270314T090000
END:DAYLIGHT
BEGIN:STANDARD
TZOFFSETFROM:-0600
TZOFFSETTO:-0700
TZNAME:MST
DTSTART:20271107T080000
END:STANDARD
END:VTIMEZONE
BEGIN:VEVENT
DTSTART;TZID=America/Edmonton:20251203T130000
DTEND;TZID=America/Edmonton:20251203T150000
DTSTAMP:20260422T162521
CREATED:20251125T212840Z
LAST-MODIFIED:20251201T212943Z
UID:10000406-1764766800-1764774000@www.familyeducationsociety.org
SUMMARY:Connect and Reset
DESCRIPTION:November 26th\, December 3rd\, December 10th 1:00 pm – 3:00pm
URL:https://www.familyeducationsociety.org/event/connect-and-reset-2/2025-12-03/
ATTACH;FMTTYPE=image/png:https://www.familyeducationsociety.org/wp-content/uploads/2025/11/Connect-and-Reset-November-to-December-2025-1.png
END:VEVENT
BEGIN:VEVENT
DTSTART;TZID=America/Edmonton:20251204T103000
DTEND;TZID=America/Edmonton:20251204T123000
DTSTAMP:20260422T162521
CREATED:20251202T163621Z
LAST-MODIFIED:20251202T163706Z
UID:10000489-1764844200-1764851400@www.familyeducationsociety.org
SUMMARY:Budgeting Workshop
DESCRIPTION:This is a closed program
URL:https://www.familyeducationsociety.org/event/budgeting-workshop/2025-12-04/
END:VEVENT
BEGIN:VEVENT
DTSTART;TZID=America/Edmonton:20251204T130000
DTEND;TZID=America/Edmonton:20251204T143000
DTSTAMP:20260422T162521
CREATED:20251112T210742Z
LAST-MODIFIED:20251112T210742Z
UID:10000381-1764853200-1764858600@www.familyeducationsociety.org
SUMMARY:FASD Caregiver Workshop
DESCRIPTION:THURSDAYS until December 4th 1:00 – 2:30 p
URL:https://www.familyeducationsociety.org/event/fasd-caregiver-workshop/2025-12-04/
END:VEVENT
BEGIN:VEVENT
DTSTART;TZID=America/Edmonton:20251204T173000
DTEND;TZID=America/Edmonton:20251204T203000
DTSTAMP:20260422T162521
CREATED:20251202T045923Z
LAST-MODIFIED:20251202T045923Z
UID:10000422-1764869400-1764880200@www.familyeducationsociety.org
SUMMARY:Decision Skills
DESCRIPTION:Decision Skills course is an innovative method of teaching parents simple skills to manage conflicts and negotiate decisions.\n\n\n\nJoin us for an engaging class focused on the four decision-making skills that allow families to gain the skills they need to work together in making decisions. Discover new ways to approach challenges and make informed choices together. \nNew Ways for Families Decision Skills course offers a new method that has been designed to be simple and repetitive\, so that almost all parents can learn these skills and apply them in their lives when dealing with each other\, with their children\, and with anyone. \nMany of these decisions need to be made with a former spouse or partner who may have temporary or long-term difficulty in making reasonable decisions. \nThis in-person event will be held at the PACE Centre (west training doors). Light refreshments will be served. \nDon’t miss this opportunity. \n\n\n\n\n\n\nClick here to register \nDecember 4th\, 2025 5:30-8:30 pm \nPace Centre – Use WEST Training Doors \n10031 103 Avenue \nGrande Prairie\, AB T8V 1B9
URL:https://www.familyeducationsociety.org/event/decision-skills-2/
LOCATION:PACE\, 10031 103 Avenue\, Grande Prairie\, Alberta\, Canada
END:VEVENT
BEGIN:VEVENT
DTSTART;TZID=America/Edmonton:20251204T190000
DTEND;TZID=America/Edmonton:20251204T210000
DTSTAMP:20260422T162521
CREATED:20251201T232035Z
LAST-MODIFIED:20251202T222254Z
UID:10000417-1764874800-1764882000@www.familyeducationsociety.org
SUMMARY:Brain Builders - In Sexsmith!
DESCRIPTION:How to help your children become the amazing parents of tomorrow!!! \nOne 90min session for parents: Videos\, Discussion\, Activities
URL:https://www.familyeducationsociety.org/event/brain-builders-in-sexsmith/
LOCATION:Shannon Library-Sexsmith\, Sexsmith\, Alberta\, Canada
ATTACH;FMTTYPE=image/png:https://www.familyeducationsociety.org/wp-content/uploads/2025/12/Brain-Builders-Sexsmith-December-4-2025-1.png
END:VEVENT
BEGIN:VEVENT
DTSTART;TZID=America/Edmonton:20251209T100000
DTEND;TZID=America/Edmonton:20251209T120000
DTSTAMP:20260422T162521
CREATED:20251112T204945Z
LAST-MODIFIED:20251112T210542Z
UID:10000006-1765274400-1765281600@www.familyeducationsociety.org
SUMMARY:The Power of Play
DESCRIPTION:BEZANSON TUESDAYS until December 9th 10:00 – 12:00 pm
URL:https://www.familyeducationsociety.org/event/the-power-of-play/2025-12-09/
END:VEVENT
BEGIN:VEVENT
DTSTART;TZID=America/Edmonton:20251209T120000
DTEND;TZID=America/Edmonton:20251209T163000
DTSTAMP:20260422T162521
CREATED:20251201T223146Z
LAST-MODIFIED:20251201T223146Z
UID:10000415-1765281600-1765297800@www.familyeducationsociety.org
SUMMARY:Office closed for Holiday Event
DESCRIPTION:
URL:https://www.familyeducationsociety.org/event/office-closed-for-holiday-event/
END:VEVENT
BEGIN:VEVENT
DTSTART;TZID=America/Edmonton:20251209T160000
DTEND;TZID=America/Edmonton:20251209T180000
DTSTAMP:20260422T162521
CREATED:20251112T211054Z
LAST-MODIFIED:20251112T211054Z
UID:10000388-1765296000-1765303200@www.familyeducationsociety.org
SUMMARY:Girls Matter!
DESCRIPTION:TUESDAYS November 18th – December 16th 4:00 pm – 6:00 pm
URL:https://www.familyeducationsociety.org/event/girls-matter/2025-12-09/
END:VEVENT
BEGIN:VEVENT
DTSTART;TZID=America/Edmonton:20251210T130000
DTEND;TZID=America/Edmonton:20251210T150000
DTSTAMP:20260422T162521
CREATED:20251125T212840Z
LAST-MODIFIED:20251201T212943Z
UID:10000407-1765371600-1765378800@www.familyeducationsociety.org
SUMMARY:Connect and Reset
DESCRIPTION:November 26th\, December 3rd\, December 10th 1:00 pm – 3:00pm
URL:https://www.familyeducationsociety.org/event/connect-and-reset-2/2025-12-10/
ATTACH;FMTTYPE=image/png:https://www.familyeducationsociety.org/wp-content/uploads/2025/11/Connect-and-Reset-November-to-December-2025-1.png
END:VEVENT
BEGIN:VEVENT
DTSTART;TZID=America/Edmonton:20251210T180000
DTEND;TZID=America/Edmonton:20251210T200000
DTSTAMP:20260422T162521
CREATED:20251201T232530Z
LAST-MODIFIED:20251202T223316Z
UID:10000418-1765389600-1765396800@www.familyeducationsociety.org
SUMMARY:Brain Builders - in Beaverlodge!
DESCRIPTION:How to help your children become the amazing parents of tomorrow!!! \nA 2 hour session for parents: Videos\, Discussion\, Activities
URL:https://www.familyeducationsociety.org/event/brain-builders-in-beaverlodge/
LOCATION:NuVista Energy Centre\, 10508 67th Avenue\, Beaverlodge\, Alberta
ATTACH;FMTTYPE=image/png:https://www.familyeducationsociety.org/wp-content/uploads/2025/12/Brain-Builders-Beaverlodge-December-10-2025-1.png
END:VEVENT
BEGIN:VEVENT
DTSTART;TZID=America/Edmonton:20251211T103000
DTEND;TZID=America/Edmonton:20251211T123000
DTSTAMP:20260422T162521
CREATED:20251202T163621Z
LAST-MODIFIED:20251202T163706Z
UID:10000490-1765449000-1765456200@www.familyeducationsociety.org
SUMMARY:Budgeting Workshop
DESCRIPTION:This is a closed program
URL:https://www.familyeducationsociety.org/event/budgeting-workshop/2025-12-11/
END:VEVENT
BEGIN:VEVENT
DTSTART;TZID=America/Edmonton:20251211T130000
DTEND;TZID=America/Edmonton:20251211T160000
DTSTAMP:20260422T162521
CREATED:20251202T044651Z
LAST-MODIFIED:20251202T045658Z
UID:10000421-1765458000-1765468800@www.familyeducationsociety.org
SUMMARY:Decision Skills
DESCRIPTION:Decision Skills course is an innovative method of teaching parents simple skills to manage conflicts and negotiate decisions.\n\n\n\nJoin us for an engaging class focused on the four decision-making skills that allow families to gain the skills they need to work together in making decisions. Discover new ways to approach challenges and make informed choices together. \nNew Ways for Families Decision Skills course offers a new method that has been designed to be simple and repetitive\, so that almost all parents can learn these skills and apply them in their lives when dealing with each other\, with their children\, and with anyone. \nMany of these decisions need to be made with a former spouse or partner who may have temporary or long-term difficulty in making reasonable decisions. \nThis in-person event will be held at Grande Prairie Family Education Society. Light refreshments will be served. \nDon’t miss this opportunity. \n\n\n\n\n\n\nClick here to register \nDecember 11th\, 2025 1:00 – 4:00 pm \nGrande Prairie Family Education Society \nGrande Prairie\, AB T8V 2T8
URL:https://www.familyeducationsociety.org/event/decision-skills/
END:VEVENT
BEGIN:VEVENT
DTSTART;TZID=America/Edmonton:20251211T180000
DTEND;TZID=America/Edmonton:20251211T200000
DTSTAMP:20260422T162521
CREATED:20251201T233002Z
LAST-MODIFIED:20251201T233002Z
UID:10000419-1765476000-1765483200@www.familyeducationsociety.org
SUMMARY:The Big Six!
DESCRIPTION:Join us for this fun and engaging new workshop! \nSix things every child needs for healthy brain development (podcast & discussion)
URL:https://www.familyeducationsociety.org/event/the-big-six/
ATTACH;FMTTYPE=image/png:https://www.familyeducationsociety.org/wp-content/uploads/2025/12/The-Big-Six-GPFES-December-11-2025.png
END:VEVENT
BEGIN:VEVENT
DTSTART;TZID=America/Edmonton:20251212T090000
DTEND;TZID=America/Edmonton:20251212T150000
DTSTAMP:20260422T162521
CREATED:20251202T163401Z
LAST-MODIFIED:20251202T163401Z
UID:10000488-1765530000-1765551600@www.familyeducationsociety.org
SUMMARY:Home Alone Safely
DESCRIPTION:A joint learning opportunity for caregivers and their children to attend together. Learn about: \n\nFire safety\nInternet safety\nBasic first aid\nEmergency planning\n…and more!\n\nRegistration is required
URL:https://www.familyeducationsociety.org/event/home-alone-safely-2/
END:VEVENT
BEGIN:VEVENT
DTSTART;TZID=America/Edmonton:20251215T120000
DTEND;TZID=America/Edmonton:20251215T163000
DTSTAMP:20260422T162521
CREATED:20251201T223055Z
LAST-MODIFIED:20251201T223055Z
UID:10000414-1765800000-1765816200@www.familyeducationsociety.org
SUMMARY:Office closed for staff event
DESCRIPTION:
URL:https://www.familyeducationsociety.org/event/office-closed-for-staff-event/
END:VEVENT
BEGIN:VEVENT
DTSTART;TZID=America/Edmonton:20251216T083000
DTEND;TZID=America/Edmonton:20251216T130000
DTSTAMP:20260422T162521
CREATED:20251201T223016Z
LAST-MODIFIED:20251201T223016Z
UID:10000413-1765873800-1765890000@www.familyeducationsociety.org
SUMMARY:Office closed for training
DESCRIPTION:
URL:https://www.familyeducationsociety.org/event/office-closed-for-training/
END:VEVENT
BEGIN:VEVENT
DTSTART;TZID=America/Edmonton:20251216T133000
DTEND;TZID=America/Edmonton:20251216T153000
DTSTAMP:20260422T162521
CREATED:20251112T210339Z
LAST-MODIFIED:20251201T220704Z
UID:10000063-1765891800-1765899000@www.familyeducationsociety.org
SUMMARY:Tips and Tricks of Paperwork and Documentation
DESCRIPTION:TUESDAYS 1:30-3:30 pm
URL:https://www.familyeducationsociety.org/event/tips-and-tricks-of-paperwork-and-documentation/2025-12-16/
END:VEVENT
BEGIN:VEVENT
DTSTART;TZID=America/Edmonton:20251216T160000
DTEND;TZID=America/Edmonton:20251216T180000
DTSTAMP:20260422T162521
CREATED:20251112T211054Z
LAST-MODIFIED:20251112T211054Z
UID:10000389-1765900800-1765908000@www.familyeducationsociety.org
SUMMARY:Girls Matter!
DESCRIPTION:TUESDAYS November 18th – December 16th 4:00 pm – 6:00 pm
URL:https://www.familyeducationsociety.org/event/girls-matter/2025-12-16/
END:VEVENT
BEGIN:VEVENT
DTSTART;TZID=America/Edmonton:20251218T103000
DTEND;TZID=America/Edmonton:20251218T123000
DTSTAMP:20260422T162521
CREATED:20251202T163621Z
LAST-MODIFIED:20251202T163706Z
UID:10000491-1766053800-1766061000@www.familyeducationsociety.org
SUMMARY:Budgeting Workshop
DESCRIPTION:This is a closed program
URL:https://www.familyeducationsociety.org/event/budgeting-workshop/2025-12-18/
END:VEVENT
BEGIN:VEVENT
DTSTART;TZID=America/Edmonton:20251218T180000
DTEND;TZID=America/Edmonton:20251218T200000
DTSTAMP:20260422T162521
CREATED:20251201T233641Z
LAST-MODIFIED:20251201T233641Z
UID:10000420-1766080800-1766088000@www.familyeducationsociety.org
SUMMARY:Brain Builders!
DESCRIPTION:How to help your children become the amazing parents of tomorrow!!! \n2 hr workshop for parents: Videos\, Discussion\, Activities
URL:https://www.familyeducationsociety.org/event/brain-builders/
ATTACH;FMTTYPE=image/png:https://www.familyeducationsociety.org/wp-content/uploads/2025/12/Brain-Builders-GPFES-December-18-2025.png
END:VEVENT
BEGIN:VEVENT
DTSTART;TZID=America/Edmonton:20251220T090000
DTEND;TZID=America/Edmonton:20251220T120000
DTSTAMP:20260422T162521
CREATED:20251202T050117Z
LAST-MODIFIED:20251202T050117Z
UID:10000424-1766221200-1766232000@www.familyeducationsociety.org
SUMMARY:Decision Skills
DESCRIPTION:Decision Skills course is an innovative method of teaching parents simple skills to manage conflicts and negotiate decisions.\n\n\n\nJoin us for an engaging class focused on the four decision-making skills that allow families to gain the skills they need to work together in making decisions. Discover new ways to approach challenges and make informed choices together. \nNew Ways for Families Decision Skills course offers a new method that has been designed to be simple and repetitive\, so that almost all parents can learn these skills and apply them in their lives when dealing with each other\, with their children\, and with anyone. \nMany of these decisions need to be made with a former spouse or partner who may have temporary or long-term difficulty in making reasonable decisions. \nThis in-person event will be held at the PACE Centre (west training doors). Light refreshments will be served. \nDon’t miss this opportunity. \n\n\n\n\n\n\nClick here to register \nDecember 20th\, 2025 9:00 – 12:00 pm \nPace Centre – Use WEST Training Doors \n10031 103 Avenue \nGrande Prairie\, AB T8V 1B9
URL:https://www.familyeducationsociety.org/event/decision-skills-3/
LOCATION:PACE\, 10031 103 Avenue\, Grande Prairie\, Alberta\, Canada
END:VEVENT
BEGIN:VEVENT
DTSTART;VALUE=DATE:20251222
DTEND;VALUE=DATE:20251227
DTSTAMP:20260422T162521
CREATED:20251201T222052Z
LAST-MODIFIED:20251201T222736Z
UID:10000408-1766361600-1766793599@www.familyeducationsociety.org
SUMMARY:Holiday Office Closure
DESCRIPTION:Our offices will be closed for the holidays December 22nd to 26th and January 1st.
URL:https://www.familyeducationsociety.org/event/holiday-office-closure/
END:VEVENT
BEGIN:VEVENT
DTSTART;VALUE=DATE:20251225
DTEND;VALUE=DATE:20251226
DTSTAMP:20260422T162521
CREATED:20251201T222637Z
LAST-MODIFIED:20251201T222718Z
UID:10000410-1766620800-1766707199@www.familyeducationsociety.org
SUMMARY:Christmas Day
DESCRIPTION:
URL:https://www.familyeducationsociety.org/event/christmas-day-office-closed/
END:VEVENT
BEGIN:VEVENT
DTSTART;VALUE=DATE:20251226
DTEND;VALUE=DATE:20251227
DTSTAMP:20260422T162521
CREATED:20251201T222901Z
LAST-MODIFIED:20251201T222901Z
UID:10000412-1766707200-1766793599@www.familyeducationsociety.org
SUMMARY:Boxing Day
DESCRIPTION:
URL:https://www.familyeducationsociety.org/event/boxing-day-2/
END:VEVENT
BEGIN:VEVENT
DTSTART;VALUE=DATE:20260101
DTEND;VALUE=DATE:20260102
DTSTAMP:20260422T162521
CREATED:20251201T222513Z
LAST-MODIFIED:20251201T222753Z
UID:10000409-1767225600-1767311999@www.familyeducationsociety.org
SUMMARY:New Years Day - Office Closed
DESCRIPTION:
URL:https://www.familyeducationsociety.org/event/new-years-day-office-closed/
END:VEVENT
BEGIN:VEVENT
DTSTART;TZID=America/Edmonton:20260107T100000
DTEND;TZID=America/Edmonton:20260107T120000
DTSTAMP:20260422T162521
CREATED:20251230T221853Z
LAST-MODIFIED:20251230T221853Z
UID:10000806-1767780000-1767787200@www.familyeducationsociety.org
SUMMARY:The Power of Play at Highland Park Church
DESCRIPTION:The Power of Play at Highland Park Church of Christ in collaboration with Parents and Tots Playgroup! \nEnjoy play\, songs\, stories and activities with your children! There will be an opportunity to complete an ASQ. \nThe 5 domains of an ASQ developmental screen: Gross Motor\, Fine Motor\, Social-Emotional\, Problem Solving\, and Communication
URL:https://www.familyeducationsociety.org/event/the-power-of-play-at-highland-park-church/2026-01-07/
LOCATION:Wellington Resource Centre\, Clairmont\, Alberta\, Canada
ATTACH;FMTTYPE=image/jpeg:https://www.familyeducationsociety.org/wp-content/uploads/2025/12/The-Power-of-Play_Highland-Park-church-Jan-2026.jpg
END:VEVENT
BEGIN:VEVENT
DTSTART;TZID=America/Edmonton:20260107T180000
DTEND;TZID=America/Edmonton:20260107T200000
DTSTAMP:20260422T162521
CREATED:20251229T224657Z
LAST-MODIFIED:20251229T230046Z
UID:10000664-1767808800-1767816000@www.familyeducationsociety.org
SUMMARY:Cooperative CoParenting through Separation or Divorce_Evening
DESCRIPTION:Cooperative CoParenting through Separation or Divorce \nShielding your Child from Conflict\, a video and Discussion programs for Coparents \nLearn powerful ways to communicate cooperatively\, make coparenting decisions in the best interest of your children\, and avoid the destructive effects that separation or divorce can have on a family. \nTO REGISTER\, CONTACT: Resiliency Support Worker at rfjssupport@gpfes.com or call/text 587-348-5450
URL:https://www.familyeducationsociety.org/event/cooperative-coparenting-through-separation-or-divorce_evening/2026-01-07/
ATTACH;FMTTYPE=image/jpeg:https://www.familyeducationsociety.org/wp-content/uploads/2025/12/CoCo-JanFeb-2026-Evenings-scaled.jpg
END:VEVENT
BEGIN:VEVENT
DTSTART;TZID=America/Edmonton:20260108T100000
DTEND;TZID=America/Edmonton:20260108T120000
DTSTAMP:20260422T162521
CREATED:20251229T225752Z
LAST-MODIFIED:20251229T225752Z
UID:10000724-1767866400-1767873600@www.familyeducationsociety.org
SUMMARY:The Power of Play_Clairmont
DESCRIPTION:The Power of Play in Clairmont at Wellington Resource Centre! \nEnjoy play\, songs\, stories and activities with your children! There will be an opportunity to complete an ASQ. \nThe 5 domains of an ASQ developmental screen: Gross Motor\, Fine Motor\, Social-Emotional\, Problem Solving\, and Communication
URL:https://www.familyeducationsociety.org/event/the-power-of-play_clairmont/2026-01-08/
LOCATION:Wellington Resource Centre\, Clairmont\, Alberta\, Canada
ATTACH;FMTTYPE=image/jpeg:https://www.familyeducationsociety.org/wp-content/uploads/2025/12/The-Power-of-Play_Clairmont-Jan-2026.jpg
END:VEVENT
BEGIN:VEVENT
DTSTART;TZID=America/Edmonton:20260108T120000
DTEND;TZID=America/Edmonton:20260108T163000
DTSTAMP:20260422T162521
CREATED:20251230T170133Z
LAST-MODIFIED:20251230T170133Z
UID:10000737-1767873600-1767889800@www.familyeducationsociety.org
SUMMARY:Office closed for training
DESCRIPTION:
URL:https://www.familyeducationsociety.org/event/office-closed-for-training-2/
END:VEVENT
BEGIN:VEVENT
DTSTART;TZID=America/Edmonton:20260112T083000
DTEND;TZID=America/Edmonton:20260112T163000
DTSTAMP:20260422T162521
CREATED:20251230T170337Z
LAST-MODIFIED:20251230T170337Z
UID:10000738-1768206600-1768235400@www.familyeducationsociety.org
SUMMARY:Office closed for Staff Meeting
DESCRIPTION:
URL:https://www.familyeducationsociety.org/event/office-closed-for-staff-meeting/
END:VEVENT
END:VCALENDAR