BEGIN:VCALENDAR
VERSION:2.0
PRODID:-//Grande Prairie Family Education Society - ECPv6.15.20//NONSGML v1.0//EN
CALSCALE:GREGORIAN
METHOD:PUBLISH
X-ORIGINAL-URL:https://www.familyeducationsociety.org
X-WR-CALDESC:Events for Grande Prairie Family Education Society
REFRESH-INTERVAL;VALUE=DURATION:PT1H
X-Robots-Tag:noindex
X-PUBLISHED-TTL:PT1H
BEGIN:VTIMEZONE
TZID:America/Edmonton
BEGIN:DAYLIGHT
TZOFFSETFROM:-0700
TZOFFSETTO:-0600
TZNAME:MDT
DTSTART:20250309T090000
END:DAYLIGHT
BEGIN:STANDARD
TZOFFSETFROM:-0600
TZOFFSETTO:-0700
TZNAME:MST
DTSTART:20251102T080000
END:STANDARD
BEGIN:DAYLIGHT
TZOFFSETFROM:-0700
TZOFFSETTO:-0600
TZNAME:MDT
DTSTART:20260308T090000
END:DAYLIGHT
BEGIN:STANDARD
TZOFFSETFROM:-0600
TZOFFSETTO:-0700
TZNAME:MST
DTSTART:20261101T080000
END:STANDARD
BEGIN:DAYLIGHT
TZOFFSETFROM:-0700
TZOFFSETTO:-0600
TZNAME:MDT
DTSTART:20270314T090000
END:DAYLIGHT
BEGIN:STANDARD
TZOFFSETFROM:-0600
TZOFFSETTO:-0700
TZNAME:MST
DTSTART:20271107T080000
END:STANDARD
END:VTIMEZONE
BEGIN:VEVENT
DTSTART;TZID=America/Edmonton:20260304T100000
DTEND;TZID=America/Edmonton:20260304T120000
DTSTAMP:20260422T162711
CREATED:20260227T163505Z
LAST-MODIFIED:20260227T165524Z
UID:10001252-1772618400-1772625600@www.familyeducationsociety.org
SUMMARY:Power of Play in Hythe
DESCRIPTION:The power of play program is based on the 5 domains of an ASQ developmental screen. Each week will focus on a different area of development. \nEnjoy play\, songs\, stories and activities with your children! \nThere will be an opportunity to complete an ASQ\, if so desired. \nMarch 4 & 18 \nApril 1 & 15 \nMay 6 \nHythe Community Library \nCall 780-830-0920 or email facilitator@gpfes.com to register.
URL:https://www.familyeducationsociety.org/event/power-of-play-in-hythe/2026-03-04/
ATTACH;FMTTYPE=image/png:https://www.familyeducationsociety.org/wp-content/uploads/2026/02/The-Power-of-Play_Hythe-March-4-to-May-6-2026.png
END:VEVENT
BEGIN:VEVENT
DTSTART;TZID=America/Edmonton:20260304T103000
DTEND;TZID=America/Edmonton:20260304T123000
DTSTAMP:20260422T162711
CREATED:20260202T171625Z
LAST-MODIFIED:20260302T232506Z
UID:10000903-1772620200-1772627400@www.familyeducationsociety.org
SUMMARY:Skills for Learning
DESCRIPTION:Building Confidence and Self Esteem\nConflict Resolution\nGoal Setting\nDecision Making and Problem Solving\nStudy Skills\nCommunication Skills\nFinding a Healthy Life Balance\nPersonal Change\nRelationships and Personal Boundaries\nTime Management
URL:https://www.familyeducationsociety.org/event/skills-for-learning-3/2026-03-04/
ATTACH;FMTTYPE=image/png:https://www.familyeducationsociety.org/wp-content/uploads/2025/12/Skills-for-Learning.png
END:VEVENT
BEGIN:VEVENT
DTSTART;TZID=America/Edmonton:20260305T090000
DTEND;TZID=America/Edmonton:20260305T150000
DTSTAMP:20260422T162711
CREATED:20260227T015953Z
LAST-MODIFIED:20260227T015953Z
UID:10001230-1772701200-1772722800@www.familyeducationsociety.org
SUMMARY:Kimochi's Day Camp
DESCRIPTION:Join us for a fun\, hands-on adventure with: \n✨ Kimochis® activities — playful tools to name\, share & understand emotions! \n✨ Inside Out 2–inspired games and discussions — connect feelings to real life! \n✨ Art\, movement & teamwork to build emotional confidence \n✨ New friends\, laughter & positive vibes! \nTo register: \nCall: 780-830-0920 or Email: cayprograms@gpfes.com \n\nDeadline to register is March 2nd
URL:https://www.familyeducationsociety.org/event/kimochis-day-camp/
ATTACH;FMTTYPE=image/png:https://www.familyeducationsociety.org/wp-content/uploads/2026/02/Kimochis-Day-Camp-March-5th-2026.png
END:VEVENT
BEGIN:VEVENT
DTSTART;TZID=America/Edmonton:20260305T100000
DTEND;TZID=America/Edmonton:20260305T120000
DTSTAMP:20260422T162711
CREATED:20260302T224946Z
LAST-MODIFIED:20260302T224946Z
UID:10001268-1772704800-1772712000@www.familyeducationsociety.org
SUMMARY:Power of Play in Spirit River
DESCRIPTION:The power of play program is based on the 5 domains of an ASQ developmental screen. Each week will focus on a different area of development. \nEnjoy play\, songs\, stories and activities with your children! \nThere will be an opportunity to complete an ASQ\, if so desired. \nThursdays March 5th  to April 9th \nCentennial Hall\, Ross Room \nCall 780-830-0920 or email facilitator@gpfes.com to register.
URL:https://www.familyeducationsociety.org/event/power-of-play-in-spirit-river/2026-03-05/
ATTACH;FMTTYPE=image/png:https://www.familyeducationsociety.org/wp-content/uploads/2026/03/The-Power-of-Play_Spirit-River-March-to-April-2026.png
END:VEVENT
BEGIN:VEVENT
DTSTART;TZID=America/Edmonton:20260305T180000
DTEND;TZID=America/Edmonton:20260305T200000
DTSTAMP:20260422T162711
CREATED:20260302T231547Z
LAST-MODIFIED:20260302T232103Z
UID:10001282-1772733600-1772740800@www.familyeducationsociety.org
SUMMARY:Cooperative CoParenting through Separation or Divorce
DESCRIPTION:Cooperative CoParenting through Separation or Divorce \nShielding your Child from Conflict\, a video and Discussion programs for Coparents \nLearn powerful ways to communicate cooperatively\, make coparenting decisions in the best interest of your children\, and avoid the destructive effects that separation or divorce can have on a family. \nThursdays March 5th to April 23rd\, 6:00 – 8:00 pm
URL:https://www.familyeducationsociety.org/event/cooperative-coparenting-through-separation-or-divorce-2/2026-03-05/
END:VEVENT
BEGIN:VEVENT
DTSTART;TZID=America/Edmonton:20260306T090000
DTEND;TZID=America/Edmonton:20260306T150000
DTSTAMP:20260422T162711
CREATED:20260227T020326Z
LAST-MODIFIED:20260227T023515Z
UID:10001231-1772787600-1772809200@www.familyeducationsociety.org
SUMMARY:Creative Expression & Emotional Skills Camp
DESCRIPTION:What your child will learn: \n\nExplore their strengths and values:\nBuild Emotional Awareness\nHealthy Coping Skills\nSelf-regulation strategies\nAnd more…\n\nTo Register: Call 780-830-0920 or email cayprograms@gpfes.com \nDeadline to register is March 2nd
URL:https://www.familyeducationsociety.org/event/creative-expression-emotional-skills-camp/
ATTACH;FMTTYPE=image/png:https://www.familyeducationsociety.org/wp-content/uploads/2026/02/Teachers-Convention-Day-Camp-Ages-12-14-8-1.png
END:VEVENT
BEGIN:VEVENT
DTSTART;TZID=America/Edmonton:20260307T130000
DTEND;TZID=America/Edmonton:20260307T150000
DTSTAMP:20260422T162711
CREATED:20260128T225648Z
LAST-MODIFIED:20260302T231233Z
UID:10000835-1772888400-1772895600@www.familyeducationsociety.org
SUMMARY:Dads' Event
DESCRIPTION:*NEW DATE* \nSATURDAY\, MARCH 7 \n1-3 pm \nThrill Hill\, Swanavon neighborhood \nEnjoy connecting with your children\, as well as other parents! Bring your sleds\, GT’s\, and toboggans and enjoy an afternoon of sledding with your kids! refreshments provided!
URL:https://www.familyeducationsociety.org/event/dads-event/
LOCATION:Thrill Hill\, 102 Street\, Swanavon\, Grande Prairie\, Canada
ATTACH;FMTTYPE=image/png:https://www.familyeducationsociety.org/wp-content/uploads/2026/01/Dads-Event-March-7-2026.png
END:VEVENT
BEGIN:VEVENT
DTSTART;TZID=America/Edmonton:20260310T093000
DTEND;TZID=America/Edmonton:20260310T113000
DTSTAMP:20260422T162711
CREATED:20260227T155233Z
LAST-MODIFIED:20260227T155418Z
UID:10001237-1773135000-1773142200@www.familyeducationsociety.org
SUMMARY:Power of Play in Woking
DESCRIPTION:The power of play program is based on the 5 domains of an ASQ developmental screen. Each week will focus on a different area of development. \nEnjoy play\, songs\, stories and activities with your children! \nThere will be an opportunity to complete an ASQ\, if so desired. \nEvery Tuesday\, March 10th to April 14 from 9:30 – 11:30 am \nWoking Community Hall \nCall 780-830-0920 or email facilitator@gpfes.com to register.
URL:https://www.familyeducationsociety.org/event/power-of-play-in-woking/2026-03-10/
ATTACH;FMTTYPE=image/png:https://www.familyeducationsociety.org/wp-content/uploads/2026/02/The-Power-of-Play_Woking-March-10-to-April-14-2026.png
END:VEVENT
BEGIN:VEVENT
DTSTART;TZID=America/Edmonton:20260310T130000
DTEND;TZID=America/Edmonton:20260310T150000
DTSTAMP:20260422T162711
CREATED:20251230T170629Z
LAST-MODIFIED:20260102T200228Z
UID:10000746-1773147600-1773154800@www.familyeducationsociety.org
SUMMARY:Circle of Security - Closed Group
DESCRIPTION:
URL:https://www.familyeducationsociety.org/event/circle-of-security-closed-group/2026-03-10/
END:VEVENT
BEGIN:VEVENT
DTSTART;TZID=America/Edmonton:20260310T180000
DTEND;TZID=America/Edmonton:20260310T190000
DTSTAMP:20260422T162711
CREATED:20260213T201754Z
LAST-MODIFIED:20260213T201754Z
UID:10001217-1773165600-1773169200@www.familyeducationsociety.org
SUMMARY:Rainbows
DESCRIPTION:Confidential\, peer led 12 weekly group sessions. Share your feelings and thoughts with others your own age. Groups from ages 3-18\, and adult groups too. All groups are always free and everyone is welcome. \nLocation: 9607 102 Street (Grande Prairie Family Education Society) \nTuesdays from 6:00pm to 7:00pm \nMar 3rd – May 26th 2026 \nAges: 3 to 11yrs & Adults 18yrs +
URL:https://www.familyeducationsociety.org/event/rainbows/2026-03-10/
ATTACH;FMTTYPE=image/png:https://www.familyeducationsociety.org/wp-content/uploads/2026/02/Rainbows-Program-March-to-May-2026.png
END:VEVENT
BEGIN:VEVENT
DTSTART;TZID=America/Edmonton:20260310T180000
DTEND;TZID=America/Edmonton:20260310T200000
DTSTAMP:20260422T162711
CREATED:20260102T163804Z
LAST-MODIFIED:20260102T163804Z
UID:10000824-1773165600-1773172800@www.familyeducationsociety.org
SUMMARY:Connect via Zoom
DESCRIPTION:Connect is an An Attachment-Based & Trauma-Informed Program for Parents and Caregivers. \nEach session\, parents & caregivers learn about parent-teen relationships and adolescent development. We work together with parents and caregivers to explore the many ways they can support their children’s healthy development. \nTuesdays\, January 27-March 24\, 2026 \n6:00-8:00pm \nThis program is offered via Zoom \nCall to register 780-830-0920
URL:https://www.familyeducationsociety.org/event/connect-via-zoom/2026-03-10/
ATTACH;FMTTYPE=image/png:https://www.familyeducationsociety.org/wp-content/uploads/2026/01/Connect-Parent-Jan-to-March-2026.png
LOCATION:
END:VEVENT
BEGIN:VEVENT
DTSTART;TZID=America/Edmonton:20260311T093000
DTEND;TZID=America/Edmonton:20260311T113000
DTSTAMP:20260422T162711
CREATED:20260102T160104Z
LAST-MODIFIED:20260102T163155Z
UID:10000817-1773221400-1773228600@www.familyeducationsociety.org
SUMMARY:Circle of Security
DESCRIPTION:Learning Objectives of the Program: \n• Understand your child’s emotional world by learning to read the emotional needs \n• Support your child’s ability to successfully manage emotions \n• Enhance the development of your child’s self esteem \nLocation: Stepping Stones \n9614-100 Avenue (use the alley) \nDates: Wednesday mornings \nJanuary 21- March 11\, 2025 \nTimes: 9:30-11:30am \n*Limited Childcare available*
URL:https://www.familyeducationsociety.org/event/circle-of-security/2026-03-11/
LOCATION:Stepping Stones Daycare\, 9614 100 Avenue\, Grande Prairie\, Alberta\, Canada
ATTACH;FMTTYPE=image/png:https://www.familyeducationsociety.org/wp-content/uploads/2026/01/Circle-of-Security-Stepping-Stones-Jan-2026-1.png
END:VEVENT
BEGIN:VEVENT
DTSTART;TZID=America/Edmonton:20260311T103000
DTEND;TZID=America/Edmonton:20260311T123000
DTSTAMP:20260422T162711
CREATED:20260202T171625Z
LAST-MODIFIED:20260302T232506Z
UID:10000904-1773225000-1773232200@www.familyeducationsociety.org
SUMMARY:Skills for Learning
DESCRIPTION:Building Confidence and Self Esteem\nConflict Resolution\nGoal Setting\nDecision Making and Problem Solving\nStudy Skills\nCommunication Skills\nFinding a Healthy Life Balance\nPersonal Change\nRelationships and Personal Boundaries\nTime Management
URL:https://www.familyeducationsociety.org/event/skills-for-learning-3/2026-03-11/
ATTACH;FMTTYPE=image/png:https://www.familyeducationsociety.org/wp-content/uploads/2025/12/Skills-for-Learning.png
END:VEVENT
BEGIN:VEVENT
DTSTART;TZID=America/Edmonton:20260312T100000
DTEND;TZID=America/Edmonton:20260312T120000
DTSTAMP:20260422T162711
CREATED:20260302T224946Z
LAST-MODIFIED:20260302T224946Z
UID:10001269-1773309600-1773316800@www.familyeducationsociety.org
SUMMARY:Power of Play in Spirit River
DESCRIPTION:The power of play program is based on the 5 domains of an ASQ developmental screen. Each week will focus on a different area of development. \nEnjoy play\, songs\, stories and activities with your children! \nThere will be an opportunity to complete an ASQ\, if so desired. \nThursdays March 5th  to April 9th \nCentennial Hall\, Ross Room \nCall 780-830-0920 or email facilitator@gpfes.com to register.
URL:https://www.familyeducationsociety.org/event/power-of-play-in-spirit-river/2026-03-12/
ATTACH;FMTTYPE=image/png:https://www.familyeducationsociety.org/wp-content/uploads/2026/03/The-Power-of-Play_Spirit-River-March-to-April-2026.png
END:VEVENT
BEGIN:VEVENT
DTSTART;TZID=America/Edmonton:20260312T180000
DTEND;TZID=America/Edmonton:20260312T200000
DTSTAMP:20260422T162711
CREATED:20260302T231547Z
LAST-MODIFIED:20260302T232103Z
UID:10001283-1773338400-1773345600@www.familyeducationsociety.org
SUMMARY:Cooperative CoParenting through Separation or Divorce
DESCRIPTION:Cooperative CoParenting through Separation or Divorce \nShielding your Child from Conflict\, a video and Discussion programs for Coparents \nLearn powerful ways to communicate cooperatively\, make coparenting decisions in the best interest of your children\, and avoid the destructive effects that separation or divorce can have on a family. \nThursdays March 5th to April 23rd\, 6:00 – 8:00 pm
URL:https://www.familyeducationsociety.org/event/cooperative-coparenting-through-separation-or-divorce-2/2026-03-12/
END:VEVENT
BEGIN:VEVENT
DTSTART;TZID=America/Edmonton:20260314T090000
DTEND;TZID=America/Edmonton:20260314T120000
DTSTAMP:20260422T162711
CREATED:20251230T164007Z
LAST-MODIFIED:20251230T164007Z
UID:10000732-1773478800-1773489600@www.familyeducationsociety.org
SUMMARY:Decision Skills
DESCRIPTION:Decision Skills course is an innovative method of teaching parents simple skills to manage conflicts and negotiate decisions.\n\n\n\nJoin us for an engaging class focused on the four decision-making skills that allow families to gain the skills they need to work together in making decisions. Discover new ways to approach challenges and make informed choices together. \nNew Ways for Families Decision Skills course offers a new method that has been designed to be simple and repetitive\, so that almost all parents can learn these skills and apply them in their lives when dealing with each other\, with their children\, and with anyone. \nMany of these decisions need to be made with a former spouse or partner who may have temporary or long-term difficulty in making reasonable decisions. \nThis in-person event will be held at the PACE Centre (use west side doors). Light refreshments will be served. \nDon’t miss this opportunity. \n\n\n\n\n\n\nClick here to register \nMarch 14\, 2026 9:00 am – 12:00 pm \nPace Centre \n10031 103 Avenue \nGrande Prairie\, AB T8V 1B9
URL:https://www.familyeducationsociety.org/event/decision-skills-12/
END:VEVENT
BEGIN:VEVENT
DTSTART;TZID=America/Edmonton:20260317T093000
DTEND;TZID=America/Edmonton:20260317T113000
DTSTAMP:20260422T162711
CREATED:20260227T155233Z
LAST-MODIFIED:20260227T155418Z
UID:10001238-1773739800-1773747000@www.familyeducationsociety.org
SUMMARY:Power of Play in Woking
DESCRIPTION:The power of play program is based on the 5 domains of an ASQ developmental screen. Each week will focus on a different area of development. \nEnjoy play\, songs\, stories and activities with your children! \nThere will be an opportunity to complete an ASQ\, if so desired. \nEvery Tuesday\, March 10th to April 14 from 9:30 – 11:30 am \nWoking Community Hall \nCall 780-830-0920 or email facilitator@gpfes.com to register.
URL:https://www.familyeducationsociety.org/event/power-of-play-in-woking/2026-03-17/
ATTACH;FMTTYPE=image/png:https://www.familyeducationsociety.org/wp-content/uploads/2026/02/The-Power-of-Play_Woking-March-10-to-April-14-2026.png
END:VEVENT
BEGIN:VEVENT
DTSTART;TZID=America/Edmonton:20260317T180000
DTEND;TZID=America/Edmonton:20260317T190000
DTSTAMP:20260422T162711
CREATED:20260213T201754Z
LAST-MODIFIED:20260213T201754Z
UID:10001218-1773770400-1773774000@www.familyeducationsociety.org
SUMMARY:Rainbows
DESCRIPTION:Confidential\, peer led 12 weekly group sessions. Share your feelings and thoughts with others your own age. Groups from ages 3-18\, and adult groups too. All groups are always free and everyone is welcome. \nLocation: 9607 102 Street (Grande Prairie Family Education Society) \nTuesdays from 6:00pm to 7:00pm \nMar 3rd – May 26th 2026 \nAges: 3 to 11yrs & Adults 18yrs +
URL:https://www.familyeducationsociety.org/event/rainbows/2026-03-17/
ATTACH;FMTTYPE=image/png:https://www.familyeducationsociety.org/wp-content/uploads/2026/02/Rainbows-Program-March-to-May-2026.png
END:VEVENT
BEGIN:VEVENT
DTSTART;TZID=America/Edmonton:20260317T180000
DTEND;TZID=America/Edmonton:20260317T200000
DTSTAMP:20260422T162711
CREATED:20260102T163804Z
LAST-MODIFIED:20260102T163804Z
UID:10000825-1773770400-1773777600@www.familyeducationsociety.org
SUMMARY:Connect via Zoom
DESCRIPTION:Connect is an An Attachment-Based & Trauma-Informed Program for Parents and Caregivers. \nEach session\, parents & caregivers learn about parent-teen relationships and adolescent development. We work together with parents and caregivers to explore the many ways they can support their children’s healthy development. \nTuesdays\, January 27-March 24\, 2026 \n6:00-8:00pm \nThis program is offered via Zoom \nCall to register 780-830-0920
URL:https://www.familyeducationsociety.org/event/connect-via-zoom/2026-03-17/
ATTACH;FMTTYPE=image/png:https://www.familyeducationsociety.org/wp-content/uploads/2026/01/Connect-Parent-Jan-to-March-2026.png
LOCATION:
END:VEVENT
BEGIN:VEVENT
DTSTART;TZID=America/Edmonton:20260318T100000
DTEND;TZID=America/Edmonton:20260318T120000
DTSTAMP:20260422T162711
CREATED:20260227T163505Z
LAST-MODIFIED:20260227T165524Z
UID:10001253-1773828000-1773835200@www.familyeducationsociety.org
SUMMARY:Power of Play in Hythe
DESCRIPTION:The power of play program is based on the 5 domains of an ASQ developmental screen. Each week will focus on a different area of development. \nEnjoy play\, songs\, stories and activities with your children! \nThere will be an opportunity to complete an ASQ\, if so desired. \nMarch 4 & 18 \nApril 1 & 15 \nMay 6 \nHythe Community Library \nCall 780-830-0920 or email facilitator@gpfes.com to register.
URL:https://www.familyeducationsociety.org/event/power-of-play-in-hythe/2026-03-18/
ATTACH;FMTTYPE=image/png:https://www.familyeducationsociety.org/wp-content/uploads/2026/02/The-Power-of-Play_Hythe-March-4-to-May-6-2026.png
END:VEVENT
BEGIN:VEVENT
DTSTART;TZID=America/Edmonton:20260318T103000
DTEND;TZID=America/Edmonton:20260318T123000
DTSTAMP:20260422T162711
CREATED:20260202T171625Z
LAST-MODIFIED:20260302T232506Z
UID:10000905-1773829800-1773837000@www.familyeducationsociety.org
SUMMARY:Skills for Learning
DESCRIPTION:Building Confidence and Self Esteem\nConflict Resolution\nGoal Setting\nDecision Making and Problem Solving\nStudy Skills\nCommunication Skills\nFinding a Healthy Life Balance\nPersonal Change\nRelationships and Personal Boundaries\nTime Management
URL:https://www.familyeducationsociety.org/event/skills-for-learning-3/2026-03-18/
ATTACH;FMTTYPE=image/png:https://www.familyeducationsociety.org/wp-content/uploads/2025/12/Skills-for-Learning.png
END:VEVENT
BEGIN:VEVENT
DTSTART;TZID=America/Edmonton:20260318T130000
DTEND;TZID=America/Edmonton:20260318T160000
DTSTAMP:20260422T162711
CREATED:20260227T022119Z
LAST-MODIFIED:20260227T022119Z
UID:10001235-1773838800-1773849600@www.familyeducationsociety.org
SUMMARY:Decision Skills
DESCRIPTION:Decision Skills course is an innovative method of teaching parents simple skills to manage conflicts and negotiate decisions.\n\n\n\nJoin us for an engaging class focused on the four decision-making skills that allow families to gain the skills they need to work together in making decisions. Discover new ways to approach challenges and make informed choices together. \nNew Ways for Families Decision Skills course offers a new method that has been designed to be simple and repetitive\, so that almost all parents can learn these skills and apply them in their lives when dealing with each other\, with their children\, and with anyone. \nMany of these decisions need to be made with a former spouse or partner who may have temporary or long-term difficulty in making reasonable decisions. \nThis in-person event will be held at Grande Prairie Family Education Society. Light refreshments will be served. \nDon’t miss this opportunity. \n\n\n\n\n\n\nClick here to register \nMarch 18th\, 2026 1:00 – 4:00 pm \nGrande Prairie Family Education Society \nGrande Prairie\, AB T8V 2T8
URL:https://www.familyeducationsociety.org/event/decision-skills-14/
END:VEVENT
BEGIN:VEVENT
DTSTART;TZID=America/Edmonton:20260319T100000
DTEND;TZID=America/Edmonton:20260319T120000
DTSTAMP:20260422T162711
CREATED:20260302T224946Z
LAST-MODIFIED:20260302T224946Z
UID:10001270-1773914400-1773921600@www.familyeducationsociety.org
SUMMARY:Power of Play in Spirit River
DESCRIPTION:The power of play program is based on the 5 domains of an ASQ developmental screen. Each week will focus on a different area of development. \nEnjoy play\, songs\, stories and activities with your children! \nThere will be an opportunity to complete an ASQ\, if so desired. \nThursdays March 5th  to April 9th \nCentennial Hall\, Ross Room \nCall 780-830-0920 or email facilitator@gpfes.com to register.
URL:https://www.familyeducationsociety.org/event/power-of-play-in-spirit-river/2026-03-19/
ATTACH;FMTTYPE=image/png:https://www.familyeducationsociety.org/wp-content/uploads/2026/03/The-Power-of-Play_Spirit-River-March-to-April-2026.png
END:VEVENT
BEGIN:VEVENT
DTSTART;TZID=America/Edmonton:20260319T180000
DTEND;TZID=America/Edmonton:20260319T200000
DTSTAMP:20260422T162711
CREATED:20260302T231547Z
LAST-MODIFIED:20260302T232103Z
UID:10001284-1773943200-1773950400@www.familyeducationsociety.org
SUMMARY:Cooperative CoParenting through Separation or Divorce
DESCRIPTION:Cooperative CoParenting through Separation or Divorce \nShielding your Child from Conflict\, a video and Discussion programs for Coparents \nLearn powerful ways to communicate cooperatively\, make coparenting decisions in the best interest of your children\, and avoid the destructive effects that separation or divorce can have on a family. \nThursdays March 5th to April 23rd\, 6:00 – 8:00 pm
URL:https://www.familyeducationsociety.org/event/cooperative-coparenting-through-separation-or-divorce-2/2026-03-19/
END:VEVENT
BEGIN:VEVENT
DTSTART;TZID=America/Edmonton:20260324T093000
DTEND;TZID=America/Edmonton:20260324T113000
DTSTAMP:20260422T162711
CREATED:20260227T155233Z
LAST-MODIFIED:20260227T155418Z
UID:10001239-1774344600-1774351800@www.familyeducationsociety.org
SUMMARY:Power of Play in Woking
DESCRIPTION:The power of play program is based on the 5 domains of an ASQ developmental screen. Each week will focus on a different area of development. \nEnjoy play\, songs\, stories and activities with your children! \nThere will be an opportunity to complete an ASQ\, if so desired. \nEvery Tuesday\, March 10th to April 14 from 9:30 – 11:30 am \nWoking Community Hall \nCall 780-830-0920 or email facilitator@gpfes.com to register.
URL:https://www.familyeducationsociety.org/event/power-of-play-in-woking/2026-03-24/
ATTACH;FMTTYPE=image/png:https://www.familyeducationsociety.org/wp-content/uploads/2026/02/The-Power-of-Play_Woking-March-10-to-April-14-2026.png
END:VEVENT
BEGIN:VEVENT
DTSTART;TZID=America/Edmonton:20260324T180000
DTEND;TZID=America/Edmonton:20260324T190000
DTSTAMP:20260422T162711
CREATED:20260213T201754Z
LAST-MODIFIED:20260213T201754Z
UID:10001219-1774375200-1774378800@www.familyeducationsociety.org
SUMMARY:Rainbows
DESCRIPTION:Confidential\, peer led 12 weekly group sessions. Share your feelings and thoughts with others your own age. Groups from ages 3-18\, and adult groups too. All groups are always free and everyone is welcome. \nLocation: 9607 102 Street (Grande Prairie Family Education Society) \nTuesdays from 6:00pm to 7:00pm \nMar 3rd – May 26th 2026 \nAges: 3 to 11yrs & Adults 18yrs +
URL:https://www.familyeducationsociety.org/event/rainbows/2026-03-24/
ATTACH;FMTTYPE=image/png:https://www.familyeducationsociety.org/wp-content/uploads/2026/02/Rainbows-Program-March-to-May-2026.png
END:VEVENT
BEGIN:VEVENT
DTSTART;TZID=America/Edmonton:20260324T180000
DTEND;TZID=America/Edmonton:20260324T200000
DTSTAMP:20260422T162711
CREATED:20260102T163804Z
LAST-MODIFIED:20260102T163804Z
UID:10000826-1774375200-1774382400@www.familyeducationsociety.org
SUMMARY:Connect via Zoom
DESCRIPTION:Connect is an An Attachment-Based & Trauma-Informed Program for Parents and Caregivers. \nEach session\, parents & caregivers learn about parent-teen relationships and adolescent development. We work together with parents and caregivers to explore the many ways they can support their children’s healthy development. \nTuesdays\, January 27-March 24\, 2026 \n6:00-8:00pm \nThis program is offered via Zoom \nCall to register 780-830-0920
URL:https://www.familyeducationsociety.org/event/connect-via-zoom/2026-03-24/
ATTACH;FMTTYPE=image/png:https://www.familyeducationsociety.org/wp-content/uploads/2026/01/Connect-Parent-Jan-to-March-2026.png
LOCATION:
END:VEVENT
BEGIN:VEVENT
DTSTART;TZID=America/Edmonton:20260324T180000
DTEND;TZID=America/Edmonton:20260324T200000
DTSTAMP:20260422T162711
CREATED:20260304T211728Z
LAST-MODIFIED:20260304T211728Z
UID:10001290-1774375200-1774382400@www.familyeducationsociety.org
SUMMARY:Circle of Security in Sexsmith
DESCRIPTION:At times all parents feel lost or without a clue about what our child might need from us. Imagine what it might feel like if you were able to make sense of what your child was really asking from you. The Circle of Security® Parenting™ program is based on decades of research about how secure parent-child relationships can be supported and strengthened. \nLearning Objectives of the Training: \n• Understand your child’s emotional world by learning to read the emotional needs \n• Support your child’s ability to successfully manage emotions \n• Enhance the development of your child’s self esteem \n• Honor your innate wisdom and desire for your child to be secure \nTuesdays\, March 24th to April 28th \n6:00 pm – 8:00 pm \n*Childcare and supper provided*
URL:https://www.familyeducationsociety.org/event/circle-of-security-in-sexsmith/2026-03-24/
LOCATION:Sexsmith Community Centre\, 9908 103 Street\, Sexsmith\, Alberta\, Canada
ATTACH;FMTTYPE=image/png:https://www.familyeducationsociety.org/wp-content/uploads/2026/03/Circle-of-Security_Sexsmith-March-24-to-April-28.png
END:VEVENT
BEGIN:VEVENT
DTSTART;TZID=America/Edmonton:20260325T103000
DTEND;TZID=America/Edmonton:20260325T123000
DTSTAMP:20260422T162711
CREATED:20260202T171625Z
LAST-MODIFIED:20260302T232506Z
UID:10000906-1774434600-1774441800@www.familyeducationsociety.org
SUMMARY:Skills for Learning
DESCRIPTION:Building Confidence and Self Esteem\nConflict Resolution\nGoal Setting\nDecision Making and Problem Solving\nStudy Skills\nCommunication Skills\nFinding a Healthy Life Balance\nPersonal Change\nRelationships and Personal Boundaries\nTime Management
URL:https://www.familyeducationsociety.org/event/skills-for-learning-3/2026-03-25/
ATTACH;FMTTYPE=image/png:https://www.familyeducationsociety.org/wp-content/uploads/2025/12/Skills-for-Learning.png
END:VEVENT
BEGIN:VEVENT
DTSTART;TZID=America/Edmonton:20260326T100000
DTEND;TZID=America/Edmonton:20260326T120000
DTSTAMP:20260422T162711
CREATED:20260302T224946Z
LAST-MODIFIED:20260302T224946Z
UID:10001271-1774519200-1774526400@www.familyeducationsociety.org
SUMMARY:Power of Play in Spirit River
DESCRIPTION:The power of play program is based on the 5 domains of an ASQ developmental screen. Each week will focus on a different area of development. \nEnjoy play\, songs\, stories and activities with your children! \nThere will be an opportunity to complete an ASQ\, if so desired. \nThursdays March 5th  to April 9th \nCentennial Hall\, Ross Room \nCall 780-830-0920 or email facilitator@gpfes.com to register.
URL:https://www.familyeducationsociety.org/event/power-of-play-in-spirit-river/2026-03-26/
ATTACH;FMTTYPE=image/png:https://www.familyeducationsociety.org/wp-content/uploads/2026/03/The-Power-of-Play_Spirit-River-March-to-April-2026.png
END:VEVENT
END:VCALENDAR