BEGIN:VCALENDAR
VERSION:2.0
PRODID:-//Grande Prairie Family Education Society - ECPv6.15.20//NONSGML v1.0//EN
CALSCALE:GREGORIAN
METHOD:PUBLISH
X-WR-CALNAME:Grande Prairie Family Education Society
X-ORIGINAL-URL:https://www.familyeducationsociety.org
X-WR-CALDESC:Events for Grande Prairie Family Education Society
REFRESH-INTERVAL;VALUE=DURATION:PT1H
X-Robots-Tag:noindex
X-PUBLISHED-TTL:PT1H
BEGIN:VTIMEZONE
TZID:America/Edmonton
BEGIN:DAYLIGHT
TZOFFSETFROM:-0700
TZOFFSETTO:-0600
TZNAME:MDT
DTSTART:20250309T090000
END:DAYLIGHT
BEGIN:STANDARD
TZOFFSETFROM:-0600
TZOFFSETTO:-0700
TZNAME:MST
DTSTART:20251102T080000
END:STANDARD
BEGIN:DAYLIGHT
TZOFFSETFROM:-0700
TZOFFSETTO:-0600
TZNAME:MDT
DTSTART:20260308T090000
END:DAYLIGHT
BEGIN:STANDARD
TZOFFSETFROM:-0600
TZOFFSETTO:-0700
TZNAME:MST
DTSTART:20261101T080000
END:STANDARD
BEGIN:DAYLIGHT
TZOFFSETFROM:-0700
TZOFFSETTO:-0600
TZNAME:MDT
DTSTART:20270314T090000
END:DAYLIGHT
BEGIN:STANDARD
TZOFFSETFROM:-0600
TZOFFSETTO:-0700
TZNAME:MST
DTSTART:20271107T080000
END:STANDARD
END:VTIMEZONE
BEGIN:VEVENT
DTSTART;TZID=America/Edmonton:20260204T180000
DTEND;TZID=America/Edmonton:20260204T200000
DTSTAMP:20260422T162433
CREATED:20251229T224657Z
LAST-MODIFIED:20251229T230046Z
UID:10000668-1770228000-1770235200@www.familyeducationsociety.org
SUMMARY:Cooperative CoParenting through Separation or Divorce_Evening
DESCRIPTION:Cooperative CoParenting through Separation or Divorce \nShielding your Child from Conflict\, a video and Discussion programs for Coparents \nLearn powerful ways to communicate cooperatively\, make coparenting decisions in the best interest of your children\, and avoid the destructive effects that separation or divorce can have on a family. \nTO REGISTER\, CONTACT: Resiliency Support Worker at rfjssupport@gpfes.com or call/text 587-348-5450
URL:https://www.familyeducationsociety.org/event/cooperative-coparenting-through-separation-or-divorce_evening/2026-02-04/
ATTACH;FMTTYPE=image/jpeg:https://www.familyeducationsociety.org/wp-content/uploads/2025/12/CoCo-JanFeb-2026-Evenings-scaled.jpg
END:VEVENT
BEGIN:VEVENT
DTSTART;TZID=America/Edmonton:20260210T130000
DTEND;TZID=America/Edmonton:20260210T150000
DTSTAMP:20260422T162433
CREATED:20251230T170629Z
LAST-MODIFIED:20260102T200228Z
UID:10000742-1770728400-1770735600@www.familyeducationsociety.org
SUMMARY:Circle of Security - Closed Group
DESCRIPTION:
URL:https://www.familyeducationsociety.org/event/circle-of-security-closed-group/2026-02-10/
END:VEVENT
BEGIN:VEVENT
DTSTART;TZID=America/Edmonton:20260210T180000
DTEND;TZID=America/Edmonton:20260210T200000
DTSTAMP:20260422T162433
CREATED:20260102T163804Z
LAST-MODIFIED:20260102T163804Z
UID:10000820-1770746400-1770753600@www.familyeducationsociety.org
SUMMARY:Connect via Zoom
DESCRIPTION:Connect is an An Attachment-Based & Trauma-Informed Program for Parents and Caregivers. \nEach session\, parents & caregivers learn about parent-teen relationships and adolescent development. We work together with parents and caregivers to explore the many ways they can support their children’s healthy development. \nTuesdays\, January 27-March 24\, 2026 \n6:00-8:00pm \nThis program is offered via Zoom \nCall to register 780-830-0920
URL:https://www.familyeducationsociety.org/event/connect-via-zoom/2026-02-10/
ATTACH;FMTTYPE=image/png:https://www.familyeducationsociety.org/wp-content/uploads/2026/01/Connect-Parent-Jan-to-March-2026.png
LOCATION:
END:VEVENT
BEGIN:VEVENT
DTSTART;TZID=America/Edmonton:20260211T093000
DTEND;TZID=America/Edmonton:20260211T113000
DTSTAMP:20260422T162433
CREATED:20260102T160104Z
LAST-MODIFIED:20260102T163155Z
UID:10000813-1770802200-1770809400@www.familyeducationsociety.org
SUMMARY:Circle of Security
DESCRIPTION:Learning Objectives of the Program: \n• Understand your child’s emotional world by learning to read the emotional needs \n• Support your child’s ability to successfully manage emotions \n• Enhance the development of your child’s self esteem \nLocation: Stepping Stones \n9614-100 Avenue (use the alley) \nDates: Wednesday mornings \nJanuary 21- March 11\, 2025 \nTimes: 9:30-11:30am \n*Limited Childcare available*
URL:https://www.familyeducationsociety.org/event/circle-of-security/2026-02-11/
LOCATION:Stepping Stones Daycare\, 9614 100 Avenue\, Grande Prairie\, Alberta\, Canada
ATTACH;FMTTYPE=image/png:https://www.familyeducationsociety.org/wp-content/uploads/2026/01/Circle-of-Security-Stepping-Stones-Jan-2026-1.png
END:VEVENT
BEGIN:VEVENT
DTSTART;TZID=America/Edmonton:20260211T103000
DTEND;TZID=America/Edmonton:20260211T123000
DTSTAMP:20260422T162433
CREATED:20260202T171625Z
LAST-MODIFIED:20260302T232506Z
UID:10000900-1770805800-1770813000@www.familyeducationsociety.org
SUMMARY:Skills for Learning
DESCRIPTION:Building Confidence and Self Esteem\nConflict Resolution\nGoal Setting\nDecision Making and Problem Solving\nStudy Skills\nCommunication Skills\nFinding a Healthy Life Balance\nPersonal Change\nRelationships and Personal Boundaries\nTime Management
URL:https://www.familyeducationsociety.org/event/skills-for-learning-3/2026-02-11/
ATTACH;FMTTYPE=image/png:https://www.familyeducationsociety.org/wp-content/uploads/2025/12/Skills-for-Learning.png
END:VEVENT
BEGIN:VEVENT
DTSTART;TZID=America/Edmonton:20260211T130000
DTEND;TZID=America/Edmonton:20260211T150000
DTSTAMP:20260422T162433
CREATED:20251229T224228Z
LAST-MODIFIED:20260227T015408Z
UID:10000549-1770814800-1770822000@www.familyeducationsociety.org
SUMMARY:Cooperative CoParenting through Separation or Divorce-Afternoon
DESCRIPTION:Cooperative CoParenting through Separation or Divorce \nShielding your Child from Conflict\, a video and Discussion programs for Coparents \nLearn powerful ways to communicate cooperatively\, make coparenting decisions in the best interest of your children\, and avoid the destructive effects that separation or divorce can have on a family. \nTO REGISTER\, CONTACT: Resiliency Support Worker at rfjssupport@gpfes.com or call/text 587-348-5450
URL:https://www.familyeducationsociety.org/event/cooperative-coparenting-through-separation-or-divorce/2026-02-11/
ATTACH;FMTTYPE=image/jpeg:https://www.familyeducationsociety.org/wp-content/uploads/2025/12/CoCo-JanMar-2026-Afternoons-scaled.jpg
END:VEVENT
BEGIN:VEVENT
DTSTART;TZID=America/Edmonton:20260211T180000
DTEND;TZID=America/Edmonton:20260211T200000
DTSTAMP:20260422T162433
CREATED:20251229T224657Z
LAST-MODIFIED:20251229T230046Z
UID:10000669-1770832800-1770840000@www.familyeducationsociety.org
SUMMARY:Cooperative CoParenting through Separation or Divorce_Evening
DESCRIPTION:Cooperative CoParenting through Separation or Divorce \nShielding your Child from Conflict\, a video and Discussion programs for Coparents \nLearn powerful ways to communicate cooperatively\, make coparenting decisions in the best interest of your children\, and avoid the destructive effects that separation or divorce can have on a family. \nTO REGISTER\, CONTACT: Resiliency Support Worker at rfjssupport@gpfes.com or call/text 587-348-5450
URL:https://www.familyeducationsociety.org/event/cooperative-coparenting-through-separation-or-divorce_evening/2026-02-11/
ATTACH;FMTTYPE=image/jpeg:https://www.familyeducationsociety.org/wp-content/uploads/2025/12/CoCo-JanFeb-2026-Evenings-scaled.jpg
END:VEVENT
BEGIN:VEVENT
DTSTART;TZID=America/Edmonton:20260212T130000
DTEND;TZID=America/Edmonton:20260212T160000
DTSTAMP:20260422T162433
CREATED:20251202T051316Z
LAST-MODIFIED:20251202T051316Z
UID:10000428-1770901200-1770912000@www.familyeducationsociety.org
SUMMARY:Decision Skills
DESCRIPTION:Decision Skills course is an innovative method of teaching parents simple skills to manage conflicts and negotiate decisions.\n\n\n\nJoin us for an engaging class focused on the four decision-making skills that allow families to gain the skills they need to work together in making decisions. Discover new ways to approach challenges and make informed choices together. \nNew Ways for Families Decision Skills course offers a new method that has been designed to be simple and repetitive\, so that almost all parents can learn these skills and apply them in their lives when dealing with each other\, with their children\, and with anyone. \nMany of these decisions need to be made with a former spouse or partner who may have temporary or long-term difficulty in making reasonable decisions. \nThis in-person event will be held at Grande Prairie Family Education Society. Light refreshments will be served. \nDon’t miss this opportunity. \n\n\n\n\n\n\nClick here to register \nFebruary 12th\, 2026 1:00 – 4:00 pm \nGrande Prairie Family Education Society \nGrande Prairie\, AB T8V 2T8
URL:https://www.familyeducationsociety.org/event/decision-skills-7/
END:VEVENT
BEGIN:VEVENT
DTSTART;TZID=America/Edmonton:20260212T173000
DTEND;TZID=America/Edmonton:20260212T203000
DTSTAMP:20260422T162433
CREATED:20251230T163543Z
LAST-MODIFIED:20251230T163543Z
UID:10000730-1770917400-1770928200@www.familyeducationsociety.org
SUMMARY:Decision Skills
DESCRIPTION:Decision Skills course is an innovative method of teaching parents simple skills to manage conflicts and negotiate decisions.\n\n\n\nJoin us for an engaging class focused on the four decision-making skills that allow families to gain the skills they need to work together in making decisions. Discover new ways to approach challenges and make informed choices together. \nNew Ways for Families Decision Skills course offers a new method that has been designed to be simple and repetitive\, so that almost all parents can learn these skills and apply them in their lives when dealing with each other\, with their children\, and with anyone. \nMany of these decisions need to be made with a former spouse or partner who may have temporary or long-term difficulty in making reasonable decisions. \nThis in-person event will be held at the PACE Centre (use west side doors). Light refreshments will be served. \nDon’t miss this opportunity. \n\n\n\n\n\n\nClick here to register \nFebruary 12th\, 2026 5:30 – 8:30 pm \nPace Centre \n10031 103 Avenue \nGrande Prairie\, AB T8V 1B9
URL:https://www.familyeducationsociety.org/event/decision-skills-10/
END:VEVENT
BEGIN:VEVENT
DTSTART;VALUE=DATE:20260216
DTEND;VALUE=DATE:20260217
DTSTAMP:20260422T162433
CREATED:20260102T173934Z
LAST-MODIFIED:20260202T172618Z
UID:10000827-1771200000-1771286399@www.familyeducationsociety.org
SUMMARY:Family Day-Office Closed
DESCRIPTION:
URL:https://www.familyeducationsociety.org/event/family-day-office-closed/
END:VEVENT
BEGIN:VEVENT
DTSTART;TZID=America/Edmonton:20260217T130000
DTEND;TZID=America/Edmonton:20260217T150000
DTSTAMP:20260422T162433
CREATED:20251230T170629Z
LAST-MODIFIED:20260102T200228Z
UID:10000743-1771333200-1771340400@www.familyeducationsociety.org
SUMMARY:Circle of Security - Closed Group
DESCRIPTION:
URL:https://www.familyeducationsociety.org/event/circle-of-security-closed-group/2026-02-17/
END:VEVENT
BEGIN:VEVENT
DTSTART;TZID=America/Edmonton:20260217T130000
DTEND;TZID=America/Edmonton:20260217T160000
DTSTAMP:20260422T162433
CREATED:20251202T050900Z
LAST-MODIFIED:20251202T051006Z
UID:10000427-1771333200-1771344000@www.familyeducationsociety.org
SUMMARY:Decision Skills
DESCRIPTION:Decision Skills course is an innovative method of teaching parents simple skills to manage conflicts and negotiate decisions.\n\n\n\nJoin us for an engaging class focused on the four decision-making skills that allow families to gain the skills they need to work together in making decisions. Discover new ways to approach challenges and make informed choices together. \nNew Ways for Families Decision Skills course offers a new method that has been designed to be simple and repetitive\, so that almost all parents can learn these skills and apply them in their lives when dealing with each other\, with their children\, and with anyone. \nMany of these decisions need to be made with a former spouse or partner who may have temporary or long-term difficulty in making reasonable decisions. \nThis in-person event will be held at Grande Prairie Family Education Society. Light refreshments will be served. \nDon’t miss this opportunity. \n\n\n\n\n\n\nClick here to register \nFebruary 17th\, 2026 1:00 – 4:00 pm \nGrande Prairie Family Education Society \nGrande Prairie\, AB T8V 2T8
URL:https://www.familyeducationsociety.org/event/decision-skills-6/
END:VEVENT
BEGIN:VEVENT
DTSTART;TZID=America/Edmonton:20260217T180000
DTEND;TZID=America/Edmonton:20260217T200000
DTSTAMP:20260422T162433
CREATED:20260102T163804Z
LAST-MODIFIED:20260102T163804Z
UID:10000821-1771351200-1771358400@www.familyeducationsociety.org
SUMMARY:Connect via Zoom
DESCRIPTION:Connect is an An Attachment-Based & Trauma-Informed Program for Parents and Caregivers. \nEach session\, parents & caregivers learn about parent-teen relationships and adolescent development. We work together with parents and caregivers to explore the many ways they can support their children’s healthy development. \nTuesdays\, January 27-March 24\, 2026 \n6:00-8:00pm \nThis program is offered via Zoom \nCall to register 780-830-0920
URL:https://www.familyeducationsociety.org/event/connect-via-zoom/2026-02-17/
ATTACH;FMTTYPE=image/png:https://www.familyeducationsociety.org/wp-content/uploads/2026/01/Connect-Parent-Jan-to-March-2026.png
LOCATION:
END:VEVENT
BEGIN:VEVENT
DTSTART;TZID=America/Edmonton:20260218T093000
DTEND;TZID=America/Edmonton:20260218T113000
DTSTAMP:20260422T162433
CREATED:20260102T160104Z
LAST-MODIFIED:20260102T163155Z
UID:10000814-1771407000-1771414200@www.familyeducationsociety.org
SUMMARY:Circle of Security
DESCRIPTION:Learning Objectives of the Program: \n• Understand your child’s emotional world by learning to read the emotional needs \n• Support your child’s ability to successfully manage emotions \n• Enhance the development of your child’s self esteem \nLocation: Stepping Stones \n9614-100 Avenue (use the alley) \nDates: Wednesday mornings \nJanuary 21- March 11\, 2025 \nTimes: 9:30-11:30am \n*Limited Childcare available*
URL:https://www.familyeducationsociety.org/event/circle-of-security/2026-02-18/
LOCATION:Stepping Stones Daycare\, 9614 100 Avenue\, Grande Prairie\, Alberta\, Canada
ATTACH;FMTTYPE=image/png:https://www.familyeducationsociety.org/wp-content/uploads/2026/01/Circle-of-Security-Stepping-Stones-Jan-2026-1.png
END:VEVENT
BEGIN:VEVENT
DTSTART;TZID=America/Edmonton:20260218T103000
DTEND;TZID=America/Edmonton:20260218T123000
DTSTAMP:20260422T162433
CREATED:20260202T171625Z
LAST-MODIFIED:20260302T232506Z
UID:10000901-1771410600-1771417800@www.familyeducationsociety.org
SUMMARY:Skills for Learning
DESCRIPTION:Building Confidence and Self Esteem\nConflict Resolution\nGoal Setting\nDecision Making and Problem Solving\nStudy Skills\nCommunication Skills\nFinding a Healthy Life Balance\nPersonal Change\nRelationships and Personal Boundaries\nTime Management
URL:https://www.familyeducationsociety.org/event/skills-for-learning-3/2026-02-18/
ATTACH;FMTTYPE=image/png:https://www.familyeducationsociety.org/wp-content/uploads/2025/12/Skills-for-Learning.png
END:VEVENT
BEGIN:VEVENT
DTSTART;TZID=America/Edmonton:20260218T130000
DTEND;TZID=America/Edmonton:20260218T150000
DTSTAMP:20260422T162433
CREATED:20251229T224228Z
LAST-MODIFIED:20260227T015408Z
UID:10000550-1771419600-1771426800@www.familyeducationsociety.org
SUMMARY:Cooperative CoParenting through Separation or Divorce-Afternoon
DESCRIPTION:Cooperative CoParenting through Separation or Divorce \nShielding your Child from Conflict\, a video and Discussion programs for Coparents \nLearn powerful ways to communicate cooperatively\, make coparenting decisions in the best interest of your children\, and avoid the destructive effects that separation or divorce can have on a family. \nTO REGISTER\, CONTACT: Resiliency Support Worker at rfjssupport@gpfes.com or call/text 587-348-5450
URL:https://www.familyeducationsociety.org/event/cooperative-coparenting-through-separation-or-divorce/2026-02-18/
ATTACH;FMTTYPE=image/jpeg:https://www.familyeducationsociety.org/wp-content/uploads/2025/12/CoCo-JanMar-2026-Afternoons-scaled.jpg
END:VEVENT
BEGIN:VEVENT
DTSTART;TZID=America/Edmonton:20260218T180000
DTEND;TZID=America/Edmonton:20260218T200000
DTSTAMP:20260422T162433
CREATED:20251229T224657Z
LAST-MODIFIED:20251229T230046Z
UID:10000670-1771437600-1771444800@www.familyeducationsociety.org
SUMMARY:Cooperative CoParenting through Separation or Divorce_Evening
DESCRIPTION:Cooperative CoParenting through Separation or Divorce \nShielding your Child from Conflict\, a video and Discussion programs for Coparents \nLearn powerful ways to communicate cooperatively\, make coparenting decisions in the best interest of your children\, and avoid the destructive effects that separation or divorce can have on a family. \nTO REGISTER\, CONTACT: Resiliency Support Worker at rfjssupport@gpfes.com or call/text 587-348-5450
URL:https://www.familyeducationsociety.org/event/cooperative-coparenting-through-separation-or-divorce_evening/2026-02-18/
ATTACH;FMTTYPE=image/jpeg:https://www.familyeducationsociety.org/wp-content/uploads/2025/12/CoCo-JanFeb-2026-Evenings-scaled.jpg
END:VEVENT
BEGIN:VEVENT
DTSTART;TZID=America/Edmonton:20260224T130000
DTEND;TZID=America/Edmonton:20260224T150000
DTSTAMP:20260422T162433
CREATED:20251230T170629Z
LAST-MODIFIED:20260102T200228Z
UID:10000744-1771938000-1771945200@www.familyeducationsociety.org
SUMMARY:Circle of Security - Closed Group
DESCRIPTION:
URL:https://www.familyeducationsociety.org/event/circle-of-security-closed-group/2026-02-24/
END:VEVENT
BEGIN:VEVENT
DTSTART;TZID=America/Edmonton:20260224T180000
DTEND;TZID=America/Edmonton:20260224T200000
DTSTAMP:20260422T162433
CREATED:20260102T163804Z
LAST-MODIFIED:20260102T163804Z
UID:10000822-1771956000-1771963200@www.familyeducationsociety.org
SUMMARY:Connect via Zoom
DESCRIPTION:Connect is an An Attachment-Based & Trauma-Informed Program for Parents and Caregivers. \nEach session\, parents & caregivers learn about parent-teen relationships and adolescent development. We work together with parents and caregivers to explore the many ways they can support their children’s healthy development. \nTuesdays\, January 27-March 24\, 2026 \n6:00-8:00pm \nThis program is offered via Zoom \nCall to register 780-830-0920
URL:https://www.familyeducationsociety.org/event/connect-via-zoom/2026-02-24/
ATTACH;FMTTYPE=image/png:https://www.familyeducationsociety.org/wp-content/uploads/2026/01/Connect-Parent-Jan-to-March-2026.png
LOCATION:
END:VEVENT
BEGIN:VEVENT
DTSTART;TZID=America/Edmonton:20260225T093000
DTEND;TZID=America/Edmonton:20260225T113000
DTSTAMP:20260422T162433
CREATED:20260102T160104Z
LAST-MODIFIED:20260102T163155Z
UID:10000815-1772011800-1772019000@www.familyeducationsociety.org
SUMMARY:Circle of Security
DESCRIPTION:Learning Objectives of the Program: \n• Understand your child’s emotional world by learning to read the emotional needs \n• Support your child’s ability to successfully manage emotions \n• Enhance the development of your child’s self esteem \nLocation: Stepping Stones \n9614-100 Avenue (use the alley) \nDates: Wednesday mornings \nJanuary 21- March 11\, 2025 \nTimes: 9:30-11:30am \n*Limited Childcare available*
URL:https://www.familyeducationsociety.org/event/circle-of-security/2026-02-25/
LOCATION:Stepping Stones Daycare\, 9614 100 Avenue\, Grande Prairie\, Alberta\, Canada
ATTACH;FMTTYPE=image/png:https://www.familyeducationsociety.org/wp-content/uploads/2026/01/Circle-of-Security-Stepping-Stones-Jan-2026-1.png
END:VEVENT
BEGIN:VEVENT
DTSTART;TZID=America/Edmonton:20260225T103000
DTEND;TZID=America/Edmonton:20260225T123000
DTSTAMP:20260422T162433
CREATED:20260202T171625Z
LAST-MODIFIED:20260302T232506Z
UID:10000902-1772015400-1772022600@www.familyeducationsociety.org
SUMMARY:Skills for Learning
DESCRIPTION:Building Confidence and Self Esteem\nConflict Resolution\nGoal Setting\nDecision Making and Problem Solving\nStudy Skills\nCommunication Skills\nFinding a Healthy Life Balance\nPersonal Change\nRelationships and Personal Boundaries\nTime Management
URL:https://www.familyeducationsociety.org/event/skills-for-learning-3/2026-02-25/
ATTACH;FMTTYPE=image/png:https://www.familyeducationsociety.org/wp-content/uploads/2025/12/Skills-for-Learning.png
END:VEVENT
BEGIN:VEVENT
DTSTART;TZID=America/Edmonton:20260225T130000
DTEND;TZID=America/Edmonton:20260225T150000
DTSTAMP:20260422T162433
CREATED:20251229T224228Z
LAST-MODIFIED:20260227T015408Z
UID:10000551-1772024400-1772031600@www.familyeducationsociety.org
SUMMARY:Cooperative CoParenting through Separation or Divorce-Afternoon
DESCRIPTION:Cooperative CoParenting through Separation or Divorce \nShielding your Child from Conflict\, a video and Discussion programs for Coparents \nLearn powerful ways to communicate cooperatively\, make coparenting decisions in the best interest of your children\, and avoid the destructive effects that separation or divorce can have on a family. \nTO REGISTER\, CONTACT: Resiliency Support Worker at rfjssupport@gpfes.com or call/text 587-348-5450
URL:https://www.familyeducationsociety.org/event/cooperative-coparenting-through-separation-or-divorce/2026-02-25/
ATTACH;FMTTYPE=image/jpeg:https://www.familyeducationsociety.org/wp-content/uploads/2025/12/CoCo-JanMar-2026-Afternoons-scaled.jpg
END:VEVENT
BEGIN:VEVENT
DTSTART;TZID=America/Edmonton:20260225T180000
DTEND;TZID=America/Edmonton:20260225T200000
DTSTAMP:20260422T162433
CREATED:20251229T224657Z
LAST-MODIFIED:20251229T230046Z
UID:10000671-1772042400-1772049600@www.familyeducationsociety.org
SUMMARY:Cooperative CoParenting through Separation or Divorce_Evening
DESCRIPTION:Cooperative CoParenting through Separation or Divorce \nShielding your Child from Conflict\, a video and Discussion programs for Coparents \nLearn powerful ways to communicate cooperatively\, make coparenting decisions in the best interest of your children\, and avoid the destructive effects that separation or divorce can have on a family. \nTO REGISTER\, CONTACT: Resiliency Support Worker at rfjssupport@gpfes.com or call/text 587-348-5450
URL:https://www.familyeducationsociety.org/event/cooperative-coparenting-through-separation-or-divorce_evening/2026-02-25/
ATTACH;FMTTYPE=image/jpeg:https://www.familyeducationsociety.org/wp-content/uploads/2025/12/CoCo-JanFeb-2026-Evenings-scaled.jpg
END:VEVENT
BEGIN:VEVENT
DTSTART;TZID=America/Edmonton:20260228T090000
DTEND;TZID=America/Edmonton:20260228T120000
DTSTAMP:20260422T162433
CREATED:20251230T163753Z
LAST-MODIFIED:20251230T163841Z
UID:10000731-1772269200-1772280000@www.familyeducationsociety.org
SUMMARY:Decision Skills
DESCRIPTION:Decision Skills course is an innovative method of teaching parents simple skills to manage conflicts and negotiate decisions.\n\n\n\nJoin us for an engaging class focused on the four decision-making skills that allow families to gain the skills they need to work together in making decisions. Discover new ways to approach challenges and make informed choices together. \nNew Ways for Families Decision Skills course offers a new method that has been designed to be simple and repetitive\, so that almost all parents can learn these skills and apply them in their lives when dealing with each other\, with their children\, and with anyone. \nMany of these decisions need to be made with a former spouse or partner who may have temporary or long-term difficulty in making reasonable decisions. \nThis in-person event will be held at the PACE Centre (use west side doors). Light refreshments will be served. \nDon’t miss this opportunity. \n\n\n\n\n\n\nClick here to register \nFebruary 28th\, 2026 9:00 – 12:00 pm \nPace Centre \n10031 103 Avenue \nGrande Prairie\, AB T8V 1B9
URL:https://www.familyeducationsociety.org/event/decision-skills-11/
END:VEVENT
BEGIN:VEVENT
DTSTART;TZID=America/Edmonton:20260303T090000
DTEND;TZID=America/Edmonton:20260303T123000
DTSTAMP:20260422T162433
CREATED:20260227T015006Z
LAST-MODIFIED:20260227T015006Z
UID:10001229-1772528400-1772541000@www.familyeducationsociety.org
SUMMARY:Office Closed for Staff Training
DESCRIPTION:
URL:https://www.familyeducationsociety.org/event/office-closed-for-staff-training/
END:VEVENT
BEGIN:VEVENT
DTSTART;TZID=America/Edmonton:20260303T130000
DTEND;TZID=America/Edmonton:20260303T150000
DTSTAMP:20260422T162433
CREATED:20251230T170629Z
LAST-MODIFIED:20260102T200228Z
UID:10000745-1772542800-1772550000@www.familyeducationsociety.org
SUMMARY:Circle of Security - Closed Group
DESCRIPTION:
URL:https://www.familyeducationsociety.org/event/circle-of-security-closed-group/2026-03-03/
END:VEVENT
BEGIN:VEVENT
DTSTART;TZID=America/Edmonton:20260303T180000
DTEND;TZID=America/Edmonton:20260303T190000
DTSTAMP:20260422T162433
CREATED:20260213T201754Z
LAST-MODIFIED:20260213T201754Z
UID:10001216-1772560800-1772564400@www.familyeducationsociety.org
SUMMARY:Rainbows
DESCRIPTION:Confidential\, peer led 12 weekly group sessions. Share your feelings and thoughts with others your own age. Groups from ages 3-18\, and adult groups too. All groups are always free and everyone is welcome. \nLocation: 9607 102 Street (Grande Prairie Family Education Society) \nTuesdays from 6:00pm to 7:00pm \nMar 3rd – May 26th 2026 \nAges: 3 to 11yrs & Adults 18yrs +
URL:https://www.familyeducationsociety.org/event/rainbows/2026-03-03/
ATTACH;FMTTYPE=image/png:https://www.familyeducationsociety.org/wp-content/uploads/2026/02/Rainbows-Program-March-to-May-2026.png
END:VEVENT
BEGIN:VEVENT
DTSTART;TZID=America/Edmonton:20260303T180000
DTEND;TZID=America/Edmonton:20260303T200000
DTSTAMP:20260422T162433
CREATED:20260102T163804Z
LAST-MODIFIED:20260102T163804Z
UID:10000823-1772560800-1772568000@www.familyeducationsociety.org
SUMMARY:Connect via Zoom
DESCRIPTION:Connect is an An Attachment-Based & Trauma-Informed Program for Parents and Caregivers. \nEach session\, parents & caregivers learn about parent-teen relationships and adolescent development. We work together with parents and caregivers to explore the many ways they can support their children’s healthy development. \nTuesdays\, January 27-March 24\, 2026 \n6:00-8:00pm \nThis program is offered via Zoom \nCall to register 780-830-0920
URL:https://www.familyeducationsociety.org/event/connect-via-zoom/2026-03-03/
ATTACH;FMTTYPE=image/png:https://www.familyeducationsociety.org/wp-content/uploads/2026/01/Connect-Parent-Jan-to-March-2026.png
LOCATION:
END:VEVENT
BEGIN:VEVENT
DTSTART;TZID=America/Edmonton:20260304T093000
DTEND;TZID=America/Edmonton:20260304T113000
DTSTAMP:20260422T162433
CREATED:20260102T160104Z
LAST-MODIFIED:20260102T163155Z
UID:10000816-1772616600-1772623800@www.familyeducationsociety.org
SUMMARY:Circle of Security
DESCRIPTION:Learning Objectives of the Program: \n• Understand your child’s emotional world by learning to read the emotional needs \n• Support your child’s ability to successfully manage emotions \n• Enhance the development of your child’s self esteem \nLocation: Stepping Stones \n9614-100 Avenue (use the alley) \nDates: Wednesday mornings \nJanuary 21- March 11\, 2025 \nTimes: 9:30-11:30am \n*Limited Childcare available*
URL:https://www.familyeducationsociety.org/event/circle-of-security/2026-03-04/
LOCATION:Stepping Stones Daycare\, 9614 100 Avenue\, Grande Prairie\, Alberta\, Canada
ATTACH;FMTTYPE=image/png:https://www.familyeducationsociety.org/wp-content/uploads/2026/01/Circle-of-Security-Stepping-Stones-Jan-2026-1.png
END:VEVENT
BEGIN:VEVENT
DTSTART;TZID=America/Edmonton:20260304T100000
DTEND;TZID=America/Edmonton:20260304T120000
DTSTAMP:20260422T162433
CREATED:20260227T163505Z
LAST-MODIFIED:20260227T165524Z
UID:10001252-1772618400-1772625600@www.familyeducationsociety.org
SUMMARY:Power of Play in Hythe
DESCRIPTION:The power of play program is based on the 5 domains of an ASQ developmental screen. Each week will focus on a different area of development. \nEnjoy play\, songs\, stories and activities with your children! \nThere will be an opportunity to complete an ASQ\, if so desired. \nMarch 4 & 18 \nApril 1 & 15 \nMay 6 \nHythe Community Library \nCall 780-830-0920 or email facilitator@gpfes.com to register.
URL:https://www.familyeducationsociety.org/event/power-of-play-in-hythe/2026-03-04/
ATTACH;FMTTYPE=image/png:https://www.familyeducationsociety.org/wp-content/uploads/2026/02/The-Power-of-Play_Hythe-March-4-to-May-6-2026.png
END:VEVENT
END:VCALENDAR