BEGIN:VCALENDAR
VERSION:2.0
PRODID:-//Grande Prairie Family Education Society - ECPv6.15.20//NONSGML v1.0//EN
CALSCALE:GREGORIAN
METHOD:PUBLISH
X-WR-CALNAME:Grande Prairie Family Education Society
X-ORIGINAL-URL:https://www.familyeducationsociety.org
X-WR-CALDESC:Events for Grande Prairie Family Education Society
REFRESH-INTERVAL;VALUE=DURATION:PT1H
X-Robots-Tag:noindex
X-PUBLISHED-TTL:PT1H
BEGIN:VTIMEZONE
TZID:America/Edmonton
BEGIN:DAYLIGHT
TZOFFSETFROM:-0700
TZOFFSETTO:-0600
TZNAME:MDT
DTSTART:20250309T090000
END:DAYLIGHT
BEGIN:STANDARD
TZOFFSETFROM:-0600
TZOFFSETTO:-0700
TZNAME:MST
DTSTART:20251102T080000
END:STANDARD
BEGIN:DAYLIGHT
TZOFFSETFROM:-0700
TZOFFSETTO:-0600
TZNAME:MDT
DTSTART:20260308T090000
END:DAYLIGHT
BEGIN:STANDARD
TZOFFSETFROM:-0600
TZOFFSETTO:-0700
TZNAME:MST
DTSTART:20261101T080000
END:STANDARD
BEGIN:DAYLIGHT
TZOFFSETFROM:-0700
TZOFFSETTO:-0600
TZNAME:MDT
DTSTART:20270314T090000
END:DAYLIGHT
BEGIN:STANDARD
TZOFFSETFROM:-0600
TZOFFSETTO:-0700
TZNAME:MST
DTSTART:20271107T080000
END:STANDARD
END:VTIMEZONE
BEGIN:VEVENT
DTSTART;TZID=America/Edmonton:20261207T180000
DTEND;TZID=America/Edmonton:20261207T200000
DTSTAMP:20260422T161833
CREATED:20260330T035958Z
LAST-MODIFIED:20260330T035958Z
UID:10001338-1796666400-1796673600@www.familyeducationsociety.org
SUMMARY:Parenting the Love and Logic Way
DESCRIPTION:Participants will learn how to put an end to arguing\, back talk and begging. Love and Logic® teaches how to set limits without wagging war while avoiding power struggles along the way. Parents will also learn to teach responsibility without losing their child’s love while guiding them to solve their own problems. Love and Logic® will also give you strategies to teach kids to complete chores without reminders and without pay. \nMondays: April 13-May 25 (except May 18) \n6:00-8:00pm \nGrande Prairie Family Education Society 9607-102 Street \nTo Register give us a call at 780-830-0920
URL:https://www.familyeducationsociety.org/event/parenting-the-love-and-logic-way/2026-12-07/
ATTACH;FMTTYPE=image/png:https://www.familyeducationsociety.org/wp-content/uploads/2026/03/Parenting-the-Love-and-Logic-Way®-April-13-to-May-25.png
END:VEVENT
BEGIN:VEVENT
DTSTART;TZID=America/Edmonton:20261214T180000
DTEND;TZID=America/Edmonton:20261214T200000
DTSTAMP:20260422T161833
CREATED:20260330T035958Z
LAST-MODIFIED:20260330T035958Z
UID:10001339-1797271200-1797278400@www.familyeducationsociety.org
SUMMARY:Parenting the Love and Logic Way
DESCRIPTION:Participants will learn how to put an end to arguing\, back talk and begging. Love and Logic® teaches how to set limits without wagging war while avoiding power struggles along the way. Parents will also learn to teach responsibility without losing their child’s love while guiding them to solve their own problems. Love and Logic® will also give you strategies to teach kids to complete chores without reminders and without pay. \nMondays: April 13-May 25 (except May 18) \n6:00-8:00pm \nGrande Prairie Family Education Society 9607-102 Street \nTo Register give us a call at 780-830-0920
URL:https://www.familyeducationsociety.org/event/parenting-the-love-and-logic-way/2026-12-14/
ATTACH;FMTTYPE=image/png:https://www.familyeducationsociety.org/wp-content/uploads/2026/03/Parenting-the-Love-and-Logic-Way®-April-13-to-May-25.png
END:VEVENT
BEGIN:VEVENT
DTSTART;TZID=America/Edmonton:20261221T180000
DTEND;TZID=America/Edmonton:20261221T200000
DTSTAMP:20260422T161833
CREATED:20260330T035958Z
LAST-MODIFIED:20260330T035958Z
UID:10001340-1797876000-1797883200@www.familyeducationsociety.org
SUMMARY:Parenting the Love and Logic Way
DESCRIPTION:Participants will learn how to put an end to arguing\, back talk and begging. Love and Logic® teaches how to set limits without wagging war while avoiding power struggles along the way. Parents will also learn to teach responsibility without losing their child’s love while guiding them to solve their own problems. Love and Logic® will also give you strategies to teach kids to complete chores without reminders and without pay. \nMondays: April 13-May 25 (except May 18) \n6:00-8:00pm \nGrande Prairie Family Education Society 9607-102 Street \nTo Register give us a call at 780-830-0920
URL:https://www.familyeducationsociety.org/event/parenting-the-love-and-logic-way/2026-12-21/
ATTACH;FMTTYPE=image/png:https://www.familyeducationsociety.org/wp-content/uploads/2026/03/Parenting-the-Love-and-Logic-Way®-April-13-to-May-25.png
END:VEVENT
BEGIN:VEVENT
DTSTART;TZID=America/Edmonton:20261228T180000
DTEND;TZID=America/Edmonton:20261228T200000
DTSTAMP:20260422T161833
CREATED:20260330T035958Z
LAST-MODIFIED:20260330T035958Z
UID:10001341-1798480800-1798488000@www.familyeducationsociety.org
SUMMARY:Parenting the Love and Logic Way
DESCRIPTION:Participants will learn how to put an end to arguing\, back talk and begging. Love and Logic® teaches how to set limits without wagging war while avoiding power struggles along the way. Parents will also learn to teach responsibility without losing their child’s love while guiding them to solve their own problems. Love and Logic® will also give you strategies to teach kids to complete chores without reminders and without pay. \nMondays: April 13-May 25 (except May 18) \n6:00-8:00pm \nGrande Prairie Family Education Society 9607-102 Street \nTo Register give us a call at 780-830-0920
URL:https://www.familyeducationsociety.org/event/parenting-the-love-and-logic-way/2026-12-28/
ATTACH;FMTTYPE=image/png:https://www.familyeducationsociety.org/wp-content/uploads/2026/03/Parenting-the-Love-and-Logic-Way®-April-13-to-May-25.png
END:VEVENT
END:VCALENDAR